BEGIN:VCALENDAR
VERSION:2.0
PRODID:-//wp-events-plugin.com//7.2.3.1//EN
TZID:Europe/Berlin
X-WR-TIMEZONE:Europe/Berlin
BEGIN:VEVENT
UID:41@labor.vtad.de
DTSTART;TZID=Europe/Berlin:20181213T183000
DTEND;TZID=Europe/Berlin:20181213T210000
DTSTAMP:20180910T072120Z
URL:https://labor.vtad.de/rgt/volatilitaet-und-volatilitaetsindizes/
SUMMARY:Volatilität und Volatilitätsindizes
DESCRIPTION:\n\n\n\n\nDas erste Quartal dieses Jahres war durch eine stark 
 erhöhte Volatilität gekennzeichnet. Ignatz Schalajda gibt einen Überbli
 ck über die verschiedenen Volatilitätsindizes. Welche Indizes eignen sic
 h für welchen Tradingansatz? Mit einer Analyse Ihrer Eigenschaften und Ri
 siken ergeben sich Handelsansätze\, die sich erfolgreich umsetzen lassen.
  Dabei muss ebenfalls eine Absicherungsstrategie implementiert werden\, we
 lche die Ereignisse dieser Zeit (Black swan event?) nicht in einem Fiasko 
 enden lassen.\n\n\n\n\n
CATEGORIES:Nürnberg
LOCATION:Technische Hochschule Nürnberg
X-APPLE-STRUCTURED-LOCATION;VALUE=URI;X-ADDRESS=Keßlerplatz 12\, Nürnberg
 \, 90489\, Deutschland;X-APPLE-RADIUS=100;X-TITLE=Technische Hochschule N
 ürnberg:geo:0,0
END:VEVENT
BEGIN:VTIMEZONE
TZID:Europe/Berlin
X-LIC-LOCATION:Europe/Berlin
BEGIN:STANDARD
DTSTART:20181028T020000
TZOFFSETFROM:+0200
TZOFFSETTO:+0100
TZNAME:CET
END:STANDARD
END:VTIMEZONE
END:VCALENDAR