BEGIN:VCALENDAR
VERSION:2.0
PRODID:-//wp-events-plugin.com//7.2.3.1//EN
TZID:Europe/Berlin
X-WR-TIMEZONE:Europe/Berlin
BEGIN:VEVENT
UID:996@labor.vtad.de
DTSTART;TZID=Europe/Berlin:20250602T183000
DTEND;TZID=Europe/Berlin:20250602T210000
DTSTAMP:20250204T175758Z
URL:https://labor.vtad.de/rgt/vix-co-nicht-nur-fuer-optionshaendler-gut/
SUMMARY:VIX &amp\; Co - nicht nur für Optionshändler gut!
DESCRIPTION:Optionshändler kennen den Volatilitätsindex VIX - und wer gut
  im\nOptionshandel sein möchte\, muss "implizite Volatilitäten" in seine
 \nStrategien einbeziehen. Aber auch nach dem Motto "nur gucken - nicht\nan
 fassen" ist VIX gut: Er hat eine gewissen Prognosekraft! Diese kann\nman n
 utzen\, auch wenn man keine Optionen handelt.\n\nDa es aus Sicht des Refer
 enten aber an den Märkten nichts Schöneres gibt\nals Optionshandel\, kom
 mt er heute auch mit einer Optionsstrategie\nvorbei: Ein einfacher\, aber 
 wirkungsvoller Hedgetrade\, aber besser als\neinfach nur Puts kaufen.\n\nH
 eute Abend ist also für alle Trader was dabei - ob nun mit oder ohne\nOpt
 ionen!\n\n&nbsp\;\n\nOlaf Lieser hat Luft- und Raumfahrttechnik studiert 
 und bezeichnet sich selbst als äußerst Zahlenaffin. Er machte bereits in
  jungen Jahren (80er) erste Börsenerfahrung und handelt seit über 10 Jah
 ren erfolgreich Optionen. Sein strategisches und mathematisches Handeln sp
 iegelt sich auch in seiner Freizeitaktivität als Hobbypilot wider.\n\nDer
  Hobby-Imker lebt mit seiner Lebensgefährtin in Gauting bei München. Ola
 f´s analytisches Denken kombiniert mit seinem trockenen Humor lässt dich
  auch schwierigere Inhalte schnell und kurzweilig verinnerlichen.
ATTACH;FMTTYPE=image/jpeg:https://labor.vtad.de/wp-content/uploads/2025/02
 /olaf-lieser.png
CATEGORIES:Freiburg
LOCATION:Novotel Freiburg am Konzerthaus Hotel
X-APPLE-STRUCTURED-LOCATION;VALUE=URI;X-ADDRESS= Konrad Adenauer Platz 2\, 
 Freiburg im Breisgau\, 79098\, Deutschland;X-APPLE-RADIUS=100;X-TITLE=Novo
 tel Freiburg am Konzerthaus Hotel:geo:0,0
END:VEVENT
BEGIN:VTIMEZONE
TZID:Europe/Berlin
X-LIC-LOCATION:Europe/Berlin
BEGIN:DAYLIGHT
DTSTART:20250330T030000
TZOFFSETFROM:+0100
TZOFFSETTO:+0200
TZNAME:CEST
END:DAYLIGHT
END:VTIMEZONE
END:VCALENDAR