BEGIN:VCALENDAR
VERSION:2.0
PRODID:-//wp-events-plugin.com//7.2.3.1//EN
TZID:Europe/Berlin
X-WR-TIMEZONE:Europe/Berlin
BEGIN:VEVENT
UID:651@labor.vtad.de
DTSTART;TZID=Europe/Berlin:20230313T183000
DTEND;TZID=Europe/Berlin:20230313T203000
DTSTAMP:20230118T125742Z
URL:https://labor.vtad.de/rgt/treffen-der-rg-freiburg-im-maerz/
SUMMARY:Tom DeMARKs Sequential®-Indikator – Funktionsweise und seine pra
 ktische Anwendung
DESCRIPTION:An diesem Abend stellt uns Toni Gianakidis den Sequential®-Ind
 ikator vor und zeigt\, wie man ihn richtig anwendet. Der von Tom DeMark in
  den 1970ern entwickelte Sequential®-Indikator lässt sich in allen Märk
 ten und Zeitebenen anwenden. Er liefert Einblick in die Stärke oder Schw
 äche des Markttrends und identifiziert die Bereiche\, in denen eine Trend
 wende des Marktes wahrscheinlich ist. Seine Effektivität hat der Sequenti
 al®-Indikator über die Jahre bewiesen\, doch das Gerücht\, dass er komp
 liziert wäre\, hält sich hartnäckig. Tom DeMark hat ihn ohne Computerun
 terstützung entwickelt und auch Sie können ihn anwenden\, selbst wenn Ih
 r Chartprogramm ihn nicht zur Verfügung stellt. Ok\, zugegeben\, im 1-Min
 uten-Chart wird es ohne Computerunterstützung schon anspruchsvoll.\n\nLes
 en Sie hier\, was Teilnehmer früherer Veranstaltungen sagen.\n\nReferent:
 \n\n\n\n\nTONI GIANAKIDIS\nTONI GIANAKIDIS ist seit 2009 stellvertretender
  Regionalmanager der Regionalgruppe Stuttgart der Vereinigung Technischer 
 Analysten Deutschlands e. V. Als Investoren-Coach vermittelt er interessie
 rten Investoren nicht nur sein Wissen\, gesammelt aus mehr als einem Viert
 eljahrhundert Praxiserfahrung als aktiver Investor (privat und beruflich)\
 , in komprimierter und sofort umsetzbarer Form\, sondern hilft ihnen auch 
 dabei\, das richtige Mindset zu erlangen\, um das Gelernte erfolgreich anz
 uwenden. https://investoren-coaching.gianakidis.com\n\n\n\n&nbsp\;\n\nRege
 lung für Gäste und Interessierte:\nSchnuppern ist mit vorheriger Anmeldu
 ng kostenfrei und erst ab der zweiten Teilnahme werden 30 Euro Kostenbetei
 ligung berechnet. Die Gäste werden gebeten sich beim Regionalmanager per 
 Email unter rm.freiburg@vtad.de anzumelden\,  da die Plätze beschränkt 
 sind! Der Mitgliedsbeitrag als „Persönliches Mitglied“ beträgt 120 E
 uro für ein Jahr. Für Mitglieder ist der Besuch aller regionalen Veranst
 altungen in allen Regionalgruppen kostenfrei.\n\n \n\nVeranstaltungsort:\
 n\nIntercityHotel Freiburg\, Bismarckallee 3\, 79098 Freiburg.\nDirekt bei
 m Hauptbahnhof Freiburg. Parken in der Bahnhofsgarage.\n\n 
CATEGORIES:Freiburg
LOCATION:InterCityHotel Freiburg
X-APPLE-STRUCTURED-LOCATION;VALUE=URI;X-ADDRESS=Bismarckallee 3\, Freiburg\
 , 79098 \, Deutschland;X-APPLE-RADIUS=100;X-TITLE=InterCityHotel Freiburg:
 geo:0,0
END:VEVENT
BEGIN:VTIMEZONE
TZID:Europe/Berlin
X-LIC-LOCATION:Europe/Berlin
BEGIN:STANDARD
DTSTART:20221030T020000
TZOFFSETFROM:+0200
TZOFFSETTO:+0100
TZNAME:CET
END:STANDARD
END:VTIMEZONE
END:VCALENDAR