BEGIN:VCALENDAR
VERSION:2.0
PRODID:-//wp-events-plugin.com//7.2.3.1//EN
TZID:Europe/Berlin
X-WR-TIMEZONE:Europe/Berlin
BEGIN:VEVENT
UID:652@labor.vtad.de
DTSTART;TZID=Europe/Berlin:20230417T183000
DTEND;TZID=Europe/Berlin:20230417T203000
DTSTAMP:20230316T112735Z
URL:https://labor.vtad.de/rgt/treffen-der-rg-freiburg-im-april/
SUMMARY:Optionen-Handel: Grundlagen der Optionspreistheorie und ausführlic
 he Live-Erläuterungen...
DESCRIPTION:Optionen-Handel: Grundlagen der Optionspreistheorie und ausfüh
 rliche Live-Erläuterungen in einer Broker-Handelsmaske\n\nDr. Gregor Baue
 r gibt zunächst einen kurzen und insbesondere praxisorientierten Einblick
  die Grundlagen der Optionspreistheorie. Dazu ein kurzer Überblick über 
 die bekanntesten Optionen-Strategien\, mit den jeweiligen Vor- und Nachtei
 len: Long Call/Put\; Short Call/Put\, sowie die Kombinationsstrategien Lon
 g Straddle/Strangle und insbesondere über die in letzter Zeit populär ge
 wordenen Strategien\, die auch den Verkauf einer Option enthalten\, hier a
 m Beispiel Bullish/Bearish Call-Spread und Bullish/Bearish Put-Spread.\n\n
 Der Hauptteil des Vortrags besteht dann in anschaulichen Erläuterungen zu
 m Optionen-Handel. Live in der Handelsmaske eines Brokers\, an den US-Term
 inmärkten\, hier über Interactive Brokers (IB\, TWS).\n\nThemenschwerpun
 kte:\n\n 	Der Options-Preis in der Praxis: So funktioniert das Market-Maki
 ng bei Optionen\n 	Die Geld-Brief Spanne: So erhalten Sie den bestmöglich
 en Preis bei Kauf und Verkauf\n 	Die Auswahl der passenden Option: Es komm
 t auch auf die Trading-Strategie an\n 	Der Einfluss der Laufzeit und der 
 „Moneyness“ (im-\, am-\, aus- dem Geld) bei der Auswahl der Option\n 	
 Diesen – wichtigen! – Einfluss hat implizite Volatilität. Dazu konkre
 te Tipps\, was und wo hierzu das Notwendige in der TWS-Maske zu finden ist
 \n 	Ihre Fragen – meine Antworten\, die Q&amp\;A Runde.\n\nReferent:\n\n
 \n\n\nDr. Gregor Bauer\nVTAD-Vorstandsvorsitzender\nDr. Gregor Bauer\, Jah
 rgang 1962\, beschäftigt sich seit etwa 20 Jahren intensiv mit den Kapita
 lmärkten und arbeitet als selbstständiger Portfolio-Manager für Privatk
 unden in Wiesbaden. Er hat zwei Bücher zum Thema „Technische Analyse un
 d Trading“ verfasst\, veröffentlicht regelmäßig Artikel in verschiede
 nen namhaften Finanzpublikationen\, hält Seminare und Workshops zum Thema
  „Technische Analyse“ ab und ist häufiger Referent und Interviewgast 
 auf Anlegermessen und im TV. Sein besonderes Interesse gilt dabei der Kerz
 encharttechnik sowie der Behavioral Finance. Gregor Bauer ist weiterhin Mi
 tglied im Board of Directors des Weltverbands der Technischen Analysten (w
 ww.IFTA.org).\n\n\n\n\n\n\n\n\nRegelung für Gäste und Interessierte:\nSc
 hnuppern ist mit vorheriger Anmeldung kostenfrei und erst ab der zweiten T
 eilnahme werden 30 Euro Kostenbeteiligung berechnet. Die Gäste werden geb
 eten sich beim Regionalmanager per Email unter rm.freiburg@vtad.de anzumel
 den\,  da die Plätze beschränkt sind! Der Mitgliedsbeitrag als „Pers
 önliches Mitglied“ beträgt 120 Euro für ein Jahr. Für Mitglieder ist
  der Besuch aller regionalen Veranstaltungen in allen Regionalgruppen kost
 enfrei.\n\n\nVeranstaltungsort:\n\nIntercityHotel Freiburg\, Bismarckallee
  3\, 79098 Freiburg.\nDirekt beim Hauptbahnhof Freiburg. Parken in der Bah
 nhofsgarage.\n\n\n\n
CATEGORIES:Freiburg
LOCATION:InterCityHotel Freiburg
X-APPLE-STRUCTURED-LOCATION;VALUE=URI;X-ADDRESS=Bismarckallee 3\, Freiburg\
 , 79098 \, Deutschland;X-APPLE-RADIUS=100;X-TITLE=InterCityHotel Freiburg:
 geo:0,0
END:VEVENT
BEGIN:VTIMEZONE
TZID:Europe/Berlin
X-LIC-LOCATION:Europe/Berlin
BEGIN:DAYLIGHT
DTSTART:20230326T030000
TZOFFSETFROM:+0100
TZOFFSETTO:+0200
TZNAME:CEST
END:DAYLIGHT
END:VTIMEZONE
END:VCALENDAR