BEGIN:VCALENDAR
VERSION:2.0
PRODID:-//wp-events-plugin.com//7.2.3.1//EN
TZID:Europe/Berlin
X-WR-TIMEZONE:Europe/Berlin
BEGIN:VEVENT
UID:1024@labor.vtad.de
DTSTART;TZID=Europe/Berlin:20250714T183000
DTEND;TZID=Europe/Berlin:20250714T210000
DTSTAMP:20250505T072647Z
URL:https://labor.vtad.de/rgt/trading-mit-marktnews/
SUMMARY:Trading mit Marktnews
DESCRIPTION:Es gibt viele Spielarten an der Börse\, welche gute und zuverl
 ässige Setups liefern. Beispiele sind Relative Stärke\, Trendlinien\, Vo
 lumentrading oder saisonale Muster. Häufig unterschätzt werden fundament
 ale Einflüsse. Doch diese bestimmen die Richtung der Märkte nachhaltig u
 nd nicht nur da ein „Indikator“ ein Signal liefert. Verständlich\, de
 nn Unternehmenszahlen zeigen den Zustand eines Unternehmens ungeschönt un
 d somit wohin es in den kommenden Wochen gehen könnte. Noch mehr Einfluss
  als Unternehmenszahlen hat die Zentralbankpolitik\, welche die Märkte al
 s gesamtes beeinflusst und für längerfristige Trends sorgt. Doch es gibt
  noch viel mehr interessante Wirtschaftsdaten die Einfluss auf Kurse entwi
 ckeln können.\n\nSo stellt sich konkret die Frage:\n\nWie können wir Unt
 ernehmens- und Wirtschaftsnews sinnvoll für unser tägliches Trading oder
  mittelfristige Anlagen nutzen?\n\nWichtige Daten können sein: Arbeitslos
 igkeit\, ISM\, Inflation\, BIP\, Zins\, …\n\nWelche Erfahrungen habt ihr
 ?\n\nWir versuchen gemeinsam wichtige Wirtschaftsdaten zu identifizieren u
 nd ein konkretes Setup zu diesen Daten zu finden.\n\nIhr Referent: \n\nMar
 co Freundl ist Betriebswirt und Volkswirt und seit über 25 Jahren Investo
 r und Trader. Mit www.bayerngold.com und www.muf-fin.tech versucht er\, mi
 t seinem Geschäftspartner\, Durchblick im Finanzdschungel zu schaffen. Fe
 rner ist er Dozent am Telekolleg\, Autor verschiedener Artikel zum Thema F
 inanzen und Edelmetalle und gibt in einem jährlichen Intensivseminar sein
 e Erkenntnisse als Trader und Investor weiter.
CATEGORIES:Freiburg
LOCATION:Novotel Freiburg am Konzerthaus Hotel
X-APPLE-STRUCTURED-LOCATION;VALUE=URI;X-ADDRESS= Konrad Adenauer Platz 2\, 
 Freiburg im Breisgau\, 79098\, Deutschland;X-APPLE-RADIUS=100;X-TITLE=Novo
 tel Freiburg am Konzerthaus Hotel:geo:0,0
END:VEVENT
BEGIN:VTIMEZONE
TZID:Europe/Berlin
X-LIC-LOCATION:Europe/Berlin
BEGIN:DAYLIGHT
DTSTART:20250330T030000
TZOFFSETFROM:+0100
TZOFFSETTO:+0200
TZNAME:CEST
END:DAYLIGHT
END:VTIMEZONE
END:VCALENDAR