BEGIN:VCALENDAR
VERSION:2.0
PRODID:-//wp-events-plugin.com//7.2.3.1//EN
TZID:Europe/Berlin
X-WR-TIMEZONE:Europe/Berlin
BEGIN:VEVENT
UID:800@labor.vtad.de
DTSTART;TZID=Europe/Berlin:20231204T183000
DTEND;TZID=Europe/Berlin:20231204T183000
DTSTAMP:20231127T140539Z
URL:https://labor.vtad.de/rgt/traden-nach-statistik-strukturiertes-entwick
 eln-einer-strategie/
SUMMARY:Traden nach Statistik – Strukturiertes Entwickeln einer Strategie
DESCRIPTION:Trading kann als statistisches Problem betrachtet werden. Hierf
 ür werden mathematisch sauber definierte Regeln gesucht\, nach denen Eins
 tiegs- und Ausstiegssignale für Trades festgelegt werden. Das Trading sta
 tistisch zusehen ermöglicht es auch\, gewisse Eigenschaften der Strategie
 n im Vorfeld festzulegen.\n\nDie Analyse der Rückrechnung eröffnet aber 
 auch die Möglichkeit\, mehr oder weniger komplexe Regeln im Zusammenspiel
  zu untersuchen und einen guten Eindruck zu bekommen\, in welchen Grenzen 
 sich eine Strategie im echten Trading bewegen wird.\n\nAm Beispiel einer n
 icht intuitiven dafür aber profitablen Reversionsstrategie wollen wir uns
  gemeinsam ansehen\, wie man auf statistischer Basis eine Strategie entwic
 keln und beurteilen kann.\n\nReferent:\nDr. Achim Lamatsch ist seit über 
 40 Jahren mal mehr mal weniger an der Börse aktiv. Nach vielen Jahren mit
  sehr durchwachsenen Ergebnissen hat er sich ab 2018 indikatorbasierten St
 rategien und darauf basierenden Rückrechnungen zugewandt. Seit 2020 betre
 ibt er End-of-day-Trading nach Signalen\, die auf der Basis von statistisc
 h überprüften Regeln generiert werden.
CATEGORIES:Freiburg
LOCATION:InterCityHotel Freiburg
X-APPLE-STRUCTURED-LOCATION;VALUE=URI;X-ADDRESS=Bismarckallee 3\, Freiburg\
 , 79098 \, Deutschland;X-APPLE-RADIUS=100;X-TITLE=InterCityHotel Freiburg:
 geo:0,0
END:VEVENT
BEGIN:VTIMEZONE
TZID:Europe/Berlin
X-LIC-LOCATION:Europe/Berlin
BEGIN:STANDARD
DTSTART:20231029T020000
TZOFFSETFROM:+0200
TZOFFSETTO:+0100
TZNAME:CET
END:STANDARD
END:VTIMEZONE
END:VCALENDAR