BEGIN:VCALENDAR
VERSION:2.0
PRODID:-//wp-events-plugin.com//7.2.3.1//EN
TZID:Europe/Berlin
X-WR-TIMEZONE:Europe/Berlin
BEGIN:VEVENT
UID:679@labor.vtad.de
DTSTART;TZID=Europe/Berlin:20230426T190000
DTEND;TZID=Europe/Berlin:20230426T211500
DTSTAMP:20230222T182314Z
URL:https://labor.vtad.de/rgt/tom-demarks-sequential-indikator-funktionswe
 ise-und-seine-praktische-anwendung-2/
SUMMARY:Tom DeMARKs Sequential®-Indikator – Funktionsweise und seine pra
 ktische Anwendung
DESCRIPTION:WO: a&amp\;o Hotel &amp\; Hostel\, Corneliusstr. 9\, Düsseldor
 f\n\nWANN: 26.04.2023 19:00 h\n\nWAS: Toni Gianakidis: Tom DeMARKs Sequent
 ial®-Indikator – Funktionsweise und seine praktische Anwendung\n\nAn di
 esem Abend stellt uns Toni Gianakidis den Sequential®-Indikator vor und z
 eigt\, wie man ihn richtig anwendet. Der von Tom DeMark in den 1970ern ent
 wickelte Sequential®-Indikator lässt sich in allen Märkten und Zeiteben
 en anwenden. Er liefert Einblick in die Stärke oder Schwäche des Markttr
 ends und identifiziert die Bereiche\, in denen eine Trendwende des Marktes
  wahrscheinlich ist. Seine Effektivität hat der Sequential®-Indikator ü
 ber die Jahre bewiesen\, doch das Gerücht\, dass er kompliziert wäre\, h
 ält sich hartnäckig. Tom DeMark hat ihn ohne Computerunterstützung entw
 ickelt und auch Sie können ihn anwenden\, selbst wenn Ihr Chartprogramm i
 hn nicht zur Verfügung stellt. Ok\, zugegeben\, im 1-Minuten-Chart wird e
 s ohne Computerunterstützung schon anspruchsvoll.\n\nLesen Sie hier\, was
  Teilnehmer früherer Veranstaltungen sagen.\n\nReferent:\n\n\n\n\nTONI GI
 ANAKIDIS\nTONI GIANAKIDIS ist seit 2009 stellvertretender Regionalmanager 
 der Regionalgruppe Stuttgart der Vereinigung Technischer Analysten Deutsch
 lands e. V. Als Investoren-Coach vermittelt er interessierten Investoren n
 icht nur sein Wissen\, gesammelt aus mehr als einem Vierteljahrhundert Pra
 xiserfahrung als aktiver Investor (privat und beruflich)\, in komprimierte
 r und sofort umsetzbarer Form\, sondern hilft ihnen auch dabei\, das richt
 ige Mindset zu erlangen\, um das Gelernte erfolgreich anzuwenden. https://
 investoren-coaching.gianakidis.com\n\n\n\n&nbsp\;
CATEGORIES:Düsseldorf
END:VEVENT
BEGIN:VTIMEZONE
TZID:Europe/Berlin
X-LIC-LOCATION:Europe/Berlin
BEGIN:DAYLIGHT
DTSTART:20230326T030000
TZOFFSETFROM:+0100
TZOFFSETTO:+0200
TZNAME:CEST
END:DAYLIGHT
END:VTIMEZONE
END:VCALENDAR