BEGIN:VCALENDAR
VERSION:2.0
PRODID:-//wp-events-plugin.com//7.2.3.1//EN
TZID:Europe/Berlin
X-WR-TIMEZONE:Europe/Berlin
BEGIN:VEVENT
UID:401@labor.vtad.de
DTSTART;TZID=Europe/Berlin:20211111T183000
DTEND;TZID=Europe/Berlin:20211111T210000
DTSTAMP:20211109T200227Z
URL:https://labor.vtad.de/rgt/thema-folgt-7/
SUMMARY:Eine saisonale Strategie zum Aufspüren aussichtsreicher Aktien
DESCRIPTION:Eine Saisonale Strategie zum Aufspüren aussichtsreicher Aktien
 \nSaisonale Muster kennen viele von den Rohstoffmärkten. Wenn im Winter d
 urch lange anhaltenden Frost das Heizöl knapp wird oder im Sommer durch H
 itze eine ganze Ernte ausfällt\, beeinflusst das natürlich die Preise.\n
 Die Anwendung von saisonalen Mustern auf den Aktienmarkt ist dagegen wenig
 er bekannt.\nKann man beispielsweise eine gute Performance erzielen\, wenn
  man jeden Monat 5 Aktien aus dem S&amp\;P 500 kauft\, die in den letzten 
 Jahren im kommenden Monat am stärksten waren?\nDiese Frage hat der Refere
 nt mit der Software AmiBroker untersucht und wird Ihnen in diesem Vortrag 
 seine aktuellen Ergebnisse vorstellen.\n\n\nDer Referent:\nUrban Jäkle ha
 ndelt seit knapp 25 Jahren Aktien und seit über 20 Jahren Futures.\nEr ha
 t früh damit begonnen\, seine Handelskonzepte zu programmieren und zu tes
 ten. Reproduzierbarkeit und Überprüfbarkeit waren schon immer seine wich
 tigsten Prinzipien.\nUrban Jäkle war auf dem Parkett der Chicago Mercanti
 le Exchange tätig und hat jahrelang institutionelles Geld mit Daytrading-
 Handelssystemen auf Futures verwaltet.\nSeine Erfahrungen gibt er in seine
 m Signaldienst „Feierabend-Depot.de" an andere Trader weiter.\n\n\n\nBit
 te beachten Sie:\n\n 	Teilnahme für Gäste (Nicht-Mitglieder) nur nach vo
 rheriger Anmeldung per Mail an: rm.nuernberg@vtad.de unter Angabe von Vorn
 ame\, Nachname und Telefonnummer oder kompletter Anschrift bis spätestens
  10.11.2021\, 24:00h. Für Mitglieder entfällt ab sofort die Pflicht zur 
 Anmeldung.\n 	Einlass ab 17:45h\, ab 18:30h ist kein Einlass mehr möglich
 \, wir bitten um pünktliches Erscheinen!\n 	Achtung: die Veranstaltung f
 indet unter Anwendung der 2G-Regel statt\, für eine Teilnahme besteht die
  Nachweispflicht einer Impfung oder Genesung. Bei Nicht-Vorhandensein eine
 s Nachweises ist eine Teilnahme NICHT möglich. Es gilt ferner eine FFP2-M
 askenpflicht auf den Verkehrs- und Begegnungsflächen des Hauses Eckstein.
 \n\nCOVID-19-Hinweise\nWir verweisen ausdrücklich auf die aktuellen Coron
 a-Regeln der bayerischen Landesregierung und des Hygienekonzeptes unseres 
 Vermieters\, die unter\n\nwww.stmgp.bayern.de/coronavirus/rechtsgrundlagen
 / und\n\nwww.eckstein-evangelisch.de/veranstaltungen/startseite.html\n\ne
 inzusehen und strikt einzuhalten sind.\n\nMit Anmeldung am Einlaß zur Ver
 anstaltung bestätigt jede(r) Teilnehmer(in)\, die o.g. geltenden Corona-R
 egeln zur Kenntnis genommen zu haben und am Veranstaltungsabend einzuhalte
 n.\n\n
CATEGORIES:Nürnberg
END:VEVENT
BEGIN:VTIMEZONE
TZID:Europe/Berlin
X-LIC-LOCATION:Europe/Berlin
BEGIN:STANDARD
DTSTART:20211031T020000
TZOFFSETFROM:+0200
TZOFFSETTO:+0100
TZNAME:CET
END:STANDARD
END:VTIMEZONE
END:VCALENDAR