BEGIN:VCALENDAR
VERSION:2.0
PRODID:-//wp-events-plugin.com//7.2.3.1//EN
TZID:Europe/Berlin
X-WR-TIMEZONE:Europe/Berlin
BEGIN:VEVENT
UID:250@labor.vtad.de
DTSTART;TZID=Europe/Berlin:20200416T183000
DTEND;TZID=Europe/Berlin:20200416T210000
DTSTAMP:20200325T184913Z
URL:https://labor.vtad.de/rgt/thema-folgt-3/
SUMMARY:+++ABGESAGT+++ Die besten Anlagestrategien für die 2020er Jahre
DESCRIPTION:DER VORTRAG MIT HERRN PAESLER WURDE AUFGRUND DER COVID-19-EPIDE
 MIE (CORONAVIRUS) UND DAMIT VERBUNDENEN AUSGANGSBESCHRÄNKUNGEN ABGESAGT U
 ND WIRD ZU EINEM SPÄTEREN ZEITPUNKT NACHGEHOLT.\n\nWir machen uns auf die
  Suche nach der richtigen Anlagestrategie für das kommende Jahrzehnt. In 
 Zeiten von Null- oder gar Negativzinsen fällt es vielen Menschen schwer\,
  richtig für das Alter vorzusorgen oder das hart erarbeitete Geld sicher 
 anzulegen. Soll ich Aktien\, Anleihen\, Immobilien oder lieber Gold kaufen
 ? Ist das Sparbuch eine sichere Alternative? Aktiv oder passiv investieren
 ? Bauch oder Strategie? Mensch oder Maschine? Welche Anlagestrategien funk
 tionieren schon seit Jahrzehnten und sind robust genug um auch im kommende
 n Jahrzehnt erfolgreich zu sein? \n\nOliver Paesler präsentiert uns bei s
 einem Besuch im April Lösungsansätze aus Wissenschaft und Praxis. Dabei 
 nimmt er eine Reihe von bewährten Anlagestrategien unter die Lupe und erk
 lärt\, wie diese funktionieren. Er prüft\, ob Privatanleger damit wirkli
 ch Geld verdienen konnten und wie die Chancen in der Zukunft aussehen. Es 
 werden Börsenstrategien aus den Bereichen Dividende\, LowRisk\, Rebalanci
 ng\, Relative Stärke\, Saisonalität und Trendfolge vorgestellt und zu ei
 ner Multi-Strategie kombiniert. Durch die Kombination unterschiedlicher An
 lagestrategien lässt sich das Verhältnis von Rendite zu Risiko deutlich 
 verbessern.\n\nErfahren Sie\, wie Sie Ihr Geld nach wissenschaftlich fundi
 erten Anlagestrategien investieren und dabei einen Anlageroboter zeitspare
 nd einsetzen. So können Sie systematisch in aussichtsreiche Aktien und ko
 stengünstige ETFs investieren. Wer sein Geld nach festen Regeln anlegt\, 
 kann menschliche Emotionen wie Gier und Angst ausschalten und seine Anlage
 strategie langfristig testen bevor er danach sein Geld investiert. Die mod
 erne Finanztechnologie befreit Sie von den Routinearbeiten und hilft\, die
  Anlagestrategien in die Praxis umzusetzen.\n\nDer Referent: Der studierte
  Wirtschaftswissenschaftler Oliver Paesler (Jahrgang 1967) kaufte bereits 
 1981 seine ersten Aktien. 1990 programmierte Oliver Paesler seine erste Ch
 artanalyse-Software "MXM Chart"\, die später unter dem Namen „Money Mak
 er“ zu einem Bestseller wurde. Er entwickelt nicht nur quantitative Inve
 stmentstrategien für institutionelle Anleger\, sondern mit dem Captimizer
 ® (www.captimizer.de) auch die Software\, um diese zu erstellen und zu te
 sten. Privatanleger können seinen Strategien auch mit dem Anlageroboter R
 oboVisor® (www.robovisor.de) folgen. Auf seinem YouTube-Kanal (www.youtub
 e.com/c/OliverPaesler) erklärt er verständlich\, wie Börsenstrategien w
 irklich funktionieren. Sein erstes Buch "Technische Indikatoren" erschien 
 2007 im FinanzBuch Verlag und zeigt\, wie Indikatoren an der Börse gewinn
 bringend eingesetzt werden können.\n\nSeit 1994 gehört Oliver Paesler zu
  den Gründungsgesellschaftern der Firma „logical line GmbH“ (http://w
 ww.logical-line.de) und ist dort für das quantitative Research und die We
 iterentwicklung des Captimizer® verantwortlich. Er war und ist an der Ent
 wicklung von quantitativen Handelsmodellen für eine Reihe von Fonds betei
 ligt. Aber auch renommierte Vermögensverwalter\, Family Offices und Versi
 cherungen schätzen seine einzigartige Expertise.
CATEGORIES:Nürnberg
LOCATION:Technische Hochschule Nürnberg
X-APPLE-STRUCTURED-LOCATION;VALUE=URI;X-ADDRESS=Keßlerplatz 12\, Nürnberg
 \, 90489\, Deutschland;X-APPLE-RADIUS=100;X-TITLE=Technische Hochschule N
 ürnberg:geo:0,0
END:VEVENT
BEGIN:VTIMEZONE
TZID:Europe/Berlin
X-LIC-LOCATION:Europe/Berlin
BEGIN:DAYLIGHT
DTSTART:20200329T030000
TZOFFSETFROM:+0100
TZOFFSETTO:+0200
TZNAME:CEST
END:DAYLIGHT
END:VTIMEZONE
END:VCALENDAR