BEGIN:VCALENDAR
VERSION:2.0
PRODID:-//wp-events-plugin.com//7.2.3.1//EN
TZID:Europe/Berlin
X-WR-TIMEZONE:Europe/Berlin
BEGIN:VEVENT
UID:545@labor.vtad.de
DTSTART;TZID=Europe/Berlin:20221208T183000
DTEND;TZID=Europe/Berlin:20221208T210000
DTSTAMP:20221007T153707Z
URL:https://labor.vtad.de/rgt/thema-folgt-13/
SUMMARY:Elliott-Waves &amp\; Live-Trading
DESCRIPTION:Elliott-Wellen-Theorie:\nDie Elliott-Wellen-Theorie ist eine Me
 thode der Technischen Analyse\, welche hilft\, Kursmuster zu identifiziere
 n und zukünftige Trends zu prognostizieren. Bei dieser Methode der Techni
 sche Analyse lassen sich Kursmuster in Impulswellen und Korrekturwellen ei
 nteilen. Impulswellen sind Bewegungen\, die sich stetig in eine Richtung a
 usdehnen. Ronny Raudies und Christopher Richter zeigen auf\, wie sich ein 
 solcher Trend aufbaut\, wie Sie diese Bewegungen erkennen und welche poten
 tiellen Tücken gegebenenfalls zu beachten sind.\n\nLive-Trading:\nPermane
 nte Spannung im 1 Minutenchart des Nasdaq 100 und des S&amp\;P500 auf Basi
 s von Ichimoku und Elliott-Wellen. Welche Bewegung ist die nächste und wi
 e kann man diese am geschicktesten traden? Die beiden Experten Ronny Raudi
 es und Christopher Richter von "ElliottWellenTheorie.de" versuchen im Live
  Trading ein paar Punkte während der Veranstaltung aus dem Markt zu schne
 iden\, auch Scalping genannt. Das Ganze basiert auf Kursmuster\, Unterstü
 tzungen und Widerstände aus dem Bereich der Ichimoku Kinko Hyo Theorie un
 d mit den jeweiligen Kursausdehnungen der Elliott Wellen Theorie.\nRonny R
 audies ist gelernter Bankkaufmann und zertifizierter Finanzberater der Uni
 versität Passau. Sein Interesse für die Aktienmärkte wurde 1996 währen
 d seiner Bankausbildung durch die Gründung eines Börsen-Clubs geweckt. Z
 urzeit schließt er die Ausbildung zum CFTe (zertifizierter technischer An
 alyst) ab. Zudem ist er Ansprechpartner für Vermögensverwaltungen im Ber
 eich der technischen Analyse von Indizes\, Aktien\, Rohstoffen und Währun
 gen. Hierbei nutzt er die Möglichkeiten der technischen Analyse\, insbeso
 ndere die Elliott-Wellen-Theorie\, um Kursbewegungen zu bestimmen.\n\nChri
 stopher Richter ist Diplom-Ökonom\, Trader\, Analyst und Berater. Sein St
 udium der Wirtschaftswissenschaften hat sein Feuer für die Börse und die
  Finanzmärkte entfacht. Mit intensivem Selbststudium und diversen Seminar
 en hat er die Feinheiten der Chart Analyse erlernt und sich dabei auf die 
 Elliott-Wellen-Theorie spezialisiert. Mit der Einhaltung von Regeln und de
 m entsprechenden Mut helfen die Elliott-Wellen\, an den Kursbewegungen zu 
 profitieren. Der Fokus liegt dabei auf kurz- als auch langfristigen Analys
 en von Indizes\, Aktien\, Rohstoffen und Währungen.\n\nRonny Raudis und C
 hristopher Richter betreiben unter https://www.elliottwellentheorie.de/\nI
 hren EW-Blog und Internetseite und sind VTAD-Fördermitglied. \n\n&nbsp\;
CATEGORIES:Nürnberg
LOCATION:eckstein haus der evang.-luth. kirche nürnberg
X-APPLE-STRUCTURED-LOCATION;VALUE=URI;X-ADDRESS=Burgstrasse 1-3\, Raum 1.01
 \, Nürnberg\, 90403 \, Bayern\, Deutschland;X-APPLE-RADIUS=100;X-TITLE=ec
 kstein haus der evang.-luth. kirche nürnberg:geo:0,0
END:VEVENT
BEGIN:VTIMEZONE
TZID:Europe/Berlin
X-LIC-LOCATION:Europe/Berlin
BEGIN:STANDARD
DTSTART:20221030T020000
TZOFFSETFROM:+0200
TZOFFSETTO:+0100
TZNAME:CET
END:STANDARD
END:VTIMEZONE
END:VCALENDAR