BEGIN:VCALENDAR
VERSION:2.0
PRODID:-//wp-events-plugin.com//7.2.3.1//EN
TZID:Europe/Berlin
X-WR-TIMEZONE:Europe/Berlin
BEGIN:VEVENT
UID:498@labor.vtad.de
DTSTART;TZID=Europe/Berlin:20220217T183000
DTEND;TZID=Europe/Berlin:20220217T210000
DTSTAMP:20220215T170601Z
URL:https://labor.vtad.de/rgt/thema-folgt-11/
SUMMARY:Meilensteine auf dem Weg zum erfolgreichen Trading
DESCRIPTION:Mike\, was braucht man um ein erfolgreicher Trader zu sein?\nWa
 s heißt es zu traden oder zu investieren? Was ist das nötige Know-how? W
 elche Software benötige ich? Welches Handelssystem nehme ich?\nFragen üb
 er Fragen\, die sich sicherlich schon jeder gestellt hat oder vielleicht 
 immer noch stellt.\nDiese wollen wir Mike nun stellen. Denn er hat Antwort
 en darauf!\nMike ist mittlerweile erfolgreicher Trader und viele Jahre in
  den Märkten unterwegs. Außerdem bildet er mit seiner Investoren-Schul
 e Interessierte genau in diesem Bereich aus.\nEr hat auf seinem Weg viele 
 der Stolpersteine mitgenommen und möchte dieses den Neuanfängern erspare
 n und wird dies tun\, indem er seine Erfahrungen und sein Wissen mit uns t
 eilt.\nIn unserem Interview ähnlichen Vortrag wird er uns seine wichtigs
 ten Erkenntnisse auf dem Weg zum erfolgreichen Trader darbieten.\nÜber d
 en Referenten:\n\nSeit Ende der 1990er-Jahre handelt Mike Seidl mit Echtge
 ld an den Kapitalmärkten–bis 2012 neben seinem Beruf als Bankkaufmann. 
 Seit2013 verwaltet er hauptberuflich sein eigenes Vermögen und gibt in Se
 minaren und Coachings sein Wissen an Menschen weiter\, die den Weg zur Err
 eichung ihrer finanziellen Ziele eigenständig gestalten wollen (www.inves
 torschule.de). Er ist freier Autor im TRADERS‘ Magazin und gern gesehene
 r Referent für Webinare und Vorträge. Sein Handelsstil ist markttechnisc
 h geprägt. Bei der Selektion von Trade-Kandidaten bezieht er zusätzlich 
 fundamentale Daten und die aktuelle wirtschaftliche Situation an den Kapit
 almärkten mit ein. Damit stellt er sicher\, den Fokus auf Märkte zu lege
 n\, die starke Trends aufweisen.\n\nBitte beachten Sie:\n\n 	Teilnahme fü
 r Gäste (Nicht-Mitglieder) nur nach vorheriger Anmeldung per Mail an: rm.
 nuernberg@vtad.de unter Angabe von Vorname\, Nachname und Telefonnummer od
 er kompletter Anschrift bis spätestens 15.02.2022\, 24:00h.\n 	Einlass ab
  17:45h\, ab 18:30h ist kein Einlass mehr möglich\, wir bitten um pünktl
 iches Erscheinen!\n 	Maximale Teilnehmerzahl 25 Personen !\n\nCovid19-Hinw
 eise:\n\n 	Die Veranstaltung findet unter Anwendung der 2G-Regel statt: es
  ist der Nachweis der Zweitimpfung oder Genesung erforderlich. Bei Nicht-V
 orhandensein eines Nachweises ist eine Teilnahme NICHT möglich.\n 	Es gil
 t ferner eine FFP2-Maskenpflicht auf den Verkehrs- und Begegnungsflächen 
 des Hauses Eckstein sowie während der Dauer der Veranstaltung.\n 	Wir ver
 weisen außerdem auf die Corona-Regeln der bayerischen Landesregierung und
  des Hygienekonzeptes unseres Raumvermieters\, die unter stmgp.bayern.de/c
 oronavirus/rechtsgrundlagen/\nund www.eckstein-evangelisch.de/veranstaltun
 gen/startseite.html einzusehen und strikt einzuhalten sind.\n
CATEGORIES:Nürnberg
LOCATION:eckstein haus der evang.-luth. kirche nürnberg
X-APPLE-STRUCTURED-LOCATION;VALUE=URI;X-ADDRESS=Burgstrasse 1-3\, Raum 1.01
 \, Nürnberg\, 90403 \, Bayern\, Deutschland;X-APPLE-RADIUS=100;X-TITLE=ec
 kstein haus der evang.-luth. kirche nürnberg:geo:0,0
END:VEVENT
BEGIN:VTIMEZONE
TZID:Europe/Berlin
X-LIC-LOCATION:Europe/Berlin
BEGIN:STANDARD
DTSTART:20211031T020000
TZOFFSETFROM:+0200
TZOFFSETTO:+0100
TZNAME:CET
END:STANDARD
END:VTIMEZONE
END:VCALENDAR