BEGIN:VCALENDAR
VERSION:2.0
PRODID:-//wp-events-plugin.com//7.2.3.1//EN
TZID:Europe/Berlin
X-WR-TIMEZONE:Europe/Berlin
BEGIN:VEVENT
UID:486@labor.vtad.de
DTSTART;TZID=Europe/Berlin:20211209T183000
DTEND;TZID=Europe/Berlin:20211209T210000
DTSTAMP:20211129T082017Z
URL:https://labor.vtad.de/rgt/technische-analyse-von-mitgliedern-fuer-mitg
 lieder-7/
SUMMARY:Technische Analyse von Mitgliedern für Mitglieder
DESCRIPTION:Diesen Monat gibt es wieder ein überregionales Online-Event zu
 sammen mit der Regionalruppe Nürnberg! Dafür möchten wir uns bei den N
 ürnbergern herzlich bedanken!\n\nIn diesem Workshop möchten wir mit Ihne
 n gemeinsam die aktuelle Lage verschiedener Märkte mit Hilfe der technisc
 hen Analyse beleuchten. Dazu ist IHRE aktive Mitarbeit erforderlich\, denn
  welche Werte untersucht werden\, bestimmen alleine Sie! Das kann ein Inde
 x\, eine Aktie\, ein Rohstoff\, ein Währungspaar\, ein Optionsschein\, ei
 n ETF\,… sein. Vielleicht haben Sie eine interessante Aktie seit einiger
  Zeit auf Ihrer Watchlist und möchten gerne wissen\, ob ein Einstieg (lon
 g oder short) aus technischer Sicht aussichtsreich erscheint? Sehen Sie in
  einem Währungschart eine interessante Formation oder hat ein Indikator f
 ür einen Rohstoff ein Verkaufssignal generiert\, Sie sind sich aber nicht
  sicher\, wie dieses Signal zu bewerten ist?\n\nBringen Sie Ihre Trading-I
 dee einfach mit und schildern Sie uns Ihre persönliche Meinung dazu! Ral
 f Fayad wird am Laptop den Chart Ihres Wertes aufrufen\, gemeinsam mit de
 m Auditorium werden wir über das Chartbild\, Indikatoren usw. diskutieren
  und versuchen\, eine technische Analyse zu erstellen. Gerne können Sie u
 ns Ihre Idee auch vorab per Mail schicken: rm.nuernberg@vtad.de\n\nWir w
 ünschen uns eine abwechslungsreiche Diskussion mit Ihnen gemeinsam\, in d
 er die praktische Anwendung der technischen Analyse im Mittelpunkt stehen 
 soll. Aus diesem Grunde möchten wir Sie bitten\, sich als Vorbereitung da
 heim ein paar Notizen zu Ihren Trading-Ideen zu machen und diese zur Disku
 ssion mitzubringen\, da wir den Abend nicht als eine reine „Zuruf“-Ana
 lyse verlaufen lassen möchten.\n\nBitte haben Sie Verständnis dafür\, w
 enn Exoten\, der eine oder andere Pennystock oder ein außergewöhnlicher 
 Index unter Umständen nicht analysiert werden kann\, wenn ausgerechnet di
 eser Wert nicht in der Datenbank der Chartsoftware enthalten ist.\n\nWir f
 reuen uns auf einen spannenden und abwechslungsreichen Abend!\n\nDer Refer
 ent: Der gelernte Jurist Ralf Fayad beschäftigt sich seit Mitte der Neun
 ziger Jahre intensiv mit der Technischen Analyse. Zunächst als Trader im 
 Eigenhandel und seit 2005 als freiberuflicher Wirtschaftsjournalist und Au
 tor mehrerer täglich erscheinender Trading-Newsletter für diverse Finanz
 institute weltweit. Seit 2011 schreibt der zertifizierte Technische Analys
 t (CFTe) unter anderem den täglich erscheinenden Trading-Newsletter der C
 ommerzbank „ideas daily“. Daneben ist Herr Fayad in der Vereinigung Te
 chnischer Analysten Deutschlands (VTAD) als stellvertretender Regionalmana
 ger und Ausbildungsbeauftragter der Regionalgruppe Nürnberg aktiv. Er geh
 ört zudem regelmäßig zum Referentenkreis auf der VTAD-Frühjahrskonfere
 nz und verschiedenen Börsentagen. In Vorträgen\, Seminaren\, Webinaren\,
  Workshops und als Trading-Mentor/Trading-Coach gibt er sein Wissen und se
 ine langjährigen Erfahrungen an angehende Trader weiter.
CATEGORIES:Freiburg
END:VEVENT
BEGIN:VTIMEZONE
TZID:Europe/Berlin
X-LIC-LOCATION:Europe/Berlin
BEGIN:STANDARD
DTSTART:20211031T020000
TZOFFSETFROM:+0200
TZOFFSETTO:+0100
TZNAME:CET
END:STANDARD
END:VTIMEZONE
END:VCALENDAR