BEGIN:VCALENDAR
VERSION:2.0
PRODID:-//wp-events-plugin.com//7.2.3.1//EN
TZID:Europe/Berlin
X-WR-TIMEZONE:Europe/Berlin
BEGIN:VEVENT
UID:603@labor.vtad.de
DTSTART;TZID=Europe/Berlin:20221110T183000
DTEND;TZID=Europe/Berlin:20221110T200000
DTSTAMP:20221020T131804Z
URL:https://labor.vtad.de/rgt/td-sequentials/
SUMMARY:Der TD-Sequential-Indikator - Funktionsweise und seine praktische A
 nwendung
DESCRIPTION:An diesem Abend hat der Referent ein Heimspiel. Unser stellv. R
 egionalmanager Toni Gianakidis stellt uns den Sequential®-Indikator vor u
 nd zeigt\, wie man ihn richtig anwendet.\n\n&nbsp\;\n\nDer von Tom DeMark 
 in den 1970ern entwickelte Sequential®-Indikator lässt sich in allen Mä
 rkten und Zeitebenen anwenden. Er liefert Einblick in die Stärke oder Sch
 wäche des Markttrends und identifiziert die Bereiche\, in denen eine Tren
 dwende des Marktes wahrscheinlich ist.\n\n&nbsp\;\n\nSeine Effektivität h
 at der Sequential®-Indikator über die Jahre bewiesen\, doch das Gerücht
 \, dass er kompliziert wäre\, hält sich hartnäckig. Tom DeMark hat ihn 
 ohne Computerunterstützung entwickelt und auch Sie können ihn anwenden\,
  selbst wenn Ihr Chartprogramm ihn nicht zur Verfügung stellt. Ok\, zugeg
 eben\, im 1-Minuten-Chart wird es ohne Computerunterstützung schon anspru
 chsvoll.
CATEGORIES:Stuttgart
LOCATION:Haus der Wirtschaft
X-APPLE-STRUCTURED-LOCATION;VALUE=URI;X-ADDRESS= Willi-Bleicher-Straße 19\
 , Stuttgart\, 71174\, Deutschland;X-APPLE-RADIUS=100;X-TITLE=Haus der Wirt
 schaft:geo:0,0
END:VEVENT
BEGIN:VTIMEZONE
TZID:Europe/Berlin
X-LIC-LOCATION:Europe/Berlin
BEGIN:STANDARD
DTSTART:20221030T020000
TZOFFSETFROM:+0200
TZOFFSETTO:+0100
TZNAME:CET
END:STANDARD
END:VTIMEZONE
END:VCALENDAR