BEGIN:VCALENDAR
VERSION:2.0
PRODID:-//wp-events-plugin.com//7.2.3.1//EN
TZID:Europe/Berlin
X-WR-TIMEZONE:Europe/Berlin
BEGIN:VEVENT
UID:557@labor.vtad.de
DTSTART;TZID=Europe/Berlin:20221208T183000
DTEND;TZID=Europe/Berlin:20221208T200000
DTSTAMP:20221110T090949Z
URL:https://labor.vtad.de/rgt/tba-29/
SUMMARY:Etwas Börsen-Mathematik + Fragestunde + Weihnachtsfeier
DESCRIPTION:Wir werden uns gemeinsam\n\n 	mit etwas Börsen-Mathematik besc
 häftigen und\n 	Börsen-relevante Fragen beantworten\nZum Beispiel: Wie w
 ird ein Preis gebildet? Was ist ein Market Maker? Was ist ein Neo-Broker? 
 etc.\n\nEure Fragen bitte vorab per Email senden an rm.stuttgart@vtad.de
CATEGORIES:Stuttgart
LOCATION:Haus der Wirtschaft
X-APPLE-STRUCTURED-LOCATION;VALUE=URI;X-ADDRESS= Willi-Bleicher-Straße 19\
 , Stuttgart\, 71174\, Deutschland;X-APPLE-RADIUS=100;X-TITLE=Haus der Wirt
 schaft:geo:0,0
END:VEVENT
BEGIN:VTIMEZONE
TZID:Europe/Berlin
X-LIC-LOCATION:Europe/Berlin
BEGIN:STANDARD
DTSTART:20221030T020000
TZOFFSETFROM:+0200
TZOFFSETTO:+0100
TZNAME:CET
END:STANDARD
END:VTIMEZONE
END:VCALENDAR