BEGIN:VCALENDAR
VERSION:2.0
PRODID:-//wp-events-plugin.com//7.2.3.1//EN
TZID:Europe/Berlin
X-WR-TIMEZONE:Europe/Berlin
BEGIN:VEVENT
UID:443@labor.vtad.de
DTSTART;TZID=Europe/Berlin:20210809T183000
DTEND;TZID=Europe/Berlin:20210809T183000
DTSTAMP:20210726T134159Z
URL:https://labor.vtad.de/rgt/sommerhock-der-regionalgruppe-im-paradies/
SUMMARY:Sommerhock der Regionalgruppe im Paradies
DESCRIPTION:\nAm 09. August wollen wir uns in lockerer Atmosphäre zum  Ge
 dankenaustausch treffen.\n\nUnter dem Motto „Salat\, Schnitzel\, Steak u
 nd Bier“ werden wir an diesem Abend den „Gemütlichen Teil“ in den V
 ordergrund stellen.\nWer will kann Charts ausgedruckt mitbringen\, dann ka
 nn sie/er mit den Kolleg-innen/en rechts und links darüber fachsimpeln.\n
 \nFür diese Veranstaltung ist eine Anmeldung erforderlich\, bitte schrei
 bt eine kurze Mail mit der gewünschten Personenzahl bis zum 06.08.21 an
 : rm.freiburg@vtad.de\n\nWir treffen uns ab 18:30 Uhr im Paradies\, Mat
 hildenstr. 26-28\, 79106 Freiburg\n\nhttps://www.paradies-freiburg.de\n\n
 Das Paradies liegt 1km vom Hauptbahnhof entfernt\, zu Fuß läuft man etwa
  12 Minuten. Alternativ fährt vom Hauptbahnhof aus alle 10 Minuten die St
 raßenbahnlinie 2 in Richtung Hornusstraße. Nach 6 Minuten Fahrt erreicht
  man den Friedrich-Ebert-Platz\, von da sind es nur noch 68m zu Fuß zum R
 estaurant.\n\nWir freuen uns auf Euch!\n\nEuer Regionalteam Freiburg
CATEGORIES:Freiburg
LOCATION:Paradies
X-APPLE-STRUCTURED-LOCATION;VALUE=URI;X-ADDRESS=Mathildenstr. 26-28\, Freib
 urg\, 79106\, Deutschland;X-APPLE-RADIUS=100;X-TITLE=Paradies:geo:0,0
END:VEVENT
BEGIN:VTIMEZONE
TZID:Europe/Berlin
X-LIC-LOCATION:Europe/Berlin
BEGIN:DAYLIGHT
DTSTART:20210328T030000
TZOFFSETFROM:+0100
TZOFFSETTO:+0200
TZNAME:CEST
END:DAYLIGHT
END:VTIMEZONE
END:VCALENDAR