BEGIN:VCALENDAR
VERSION:2.0
PRODID:-//wp-events-plugin.com//7.2.3.1//EN
TZID:Europe/Berlin
X-WR-TIMEZONE:Europe/Berlin
BEGIN:VEVENT
UID:837@labor.vtad.de
DTSTART;TZID=Europe/Berlin:20240311T183000
DTEND;TZID=Europe/Berlin:20240311T203000
DTSTAMP:20240305T091518Z
URL:https://labor.vtad.de/rgt/portfolio-von-handelsstrategien-fuer-faule-t
 rader-2/
SUMMARY:Portfolio von Handelsstrategien für faule Trader
DESCRIPTION:Privatinvestoren und Trader sind oft zu stark auf einzelne Hand
 elsstrategien fokussiert. Dabei kann eine Diversifikation in mehrere Strat
 egien dazu beitragen\, das Risiko zu streuen und potenzielle\, unerwünsch
 te Auswirkungen jeder einzelnen Strategie auf das Gesamtportfolio zu reduz
 ieren. Ist das Risiko für hohe Verluste minimiert\, erhöht sich das Pote
 nzial für langfristiges Wachstum des Portfolios.\n\nWie das ganz einfach 
 und ohne großen Aufwand in der Praxis funktionieren kann\, wird in diesem
  Vortrag gezeigt.\n\nIhr Referent:\n\nHerr Dr. Vassil Lolov ist Privatinve
 stor und Trader mit mehr als 20 Jahren Börsenerfahrung.
CATEGORIES:Freiburg
LOCATION:Novotel Freiburg am Konzerthaus Hotel
X-APPLE-STRUCTURED-LOCATION;VALUE=URI;X-ADDRESS= Konrad Adenauer Platz 2\, 
 Freiburg im Breisgau\, 79098\, Deutschland;X-APPLE-RADIUS=100;X-TITLE=Novo
 tel Freiburg am Konzerthaus Hotel:geo:0,0
END:VEVENT
BEGIN:VTIMEZONE
TZID:Europe/Berlin
X-LIC-LOCATION:Europe/Berlin
BEGIN:STANDARD
DTSTART:20231029T020000
TZOFFSETFROM:+0200
TZOFFSETTO:+0100
TZNAME:CET
END:STANDARD
END:VTIMEZONE
END:VCALENDAR