BEGIN:VCALENDAR
VERSION:2.0
PRODID:-//wp-events-plugin.com//7.2.3.1//EN
TZID:Europe/Berlin
X-WR-TIMEZONE:Europe/Berlin
BEGIN:VEVENT
UID:4@labor.vtad.de
DTSTART;TZID=Europe/Berlin:20180705T183000
DTEND;TZID=Europe/Berlin:20180705T183000
DTSTAMP:20180715T080325Z
URL:https://labor.vtad.de/rgt/pattern-trading/
SUMMARY:Pattern-Trading
DESCRIPTION:Karin Roller zeigt Ihnen in diesem Seminar Schritt für Schritt
 \, wie Sie harmonische Pattern in einem Chart aufspüren\, wie Sie die Kur
 sziele der einzelnen Segmente bestimmen und das Pattern identifizieren kö
 nnen. Und ist das Pattern dann (fast) fertig ausgebildet\, wie der Einstie
 g\, der Take Profit und der Stopp Loss geplant und auch umgesetzt werden.\
 nZu Beginn des 20. Jahrhunderts bestand Technische Analyse unter anderem d
 arin\, wiederkehrende Muster in von Hand gezeichneten Charts zu identifizi
 eren und danach zu traden. Dazu gehörten Standardpattern wie Kopf-Schulte
 r Formationen oder Dreiecke. Heutzutage zeichnet der Computer den Chart un
 d praktisch jedes Charttool verfügt über Fibonacci-Tools.\n\nDamit ist e
 s ein Einfaches\, harmonische Pattern zu identifizieren und diese zu hande
 ln. Unter harmonischen Pattern versteht man Chartmuster\, die mit Hilfe vo
 n Fibonacci-Ratios definiert werden. Diese Pattern (Muster) werden in der 
 Regel aus 5 Punkten und 4 Segmenten gebildet. Sie tragen die Namen „Gart
 ley“\, „Bat“\, „Butterfly“\, „Crab“ oder auch „Shark“. D
 ie einzelnen Pattern unterscheiden sich darin\, an welchen Fibonacci-Ratio
 s eine Umkehr ausgebildet wird.\n\nWer sich unter einem harmonischen Patte
 rn auf die Schnelle nichts vorstellen kan:\nHier wird die Entwicklung eine
 s aktuellen bearishen Cypher im DAX beschrieben.\n\nEiner der Vorteile de
 s Pattern-Trading liegt darin\, dass jeder Trade im Voraus geplant werden 
 kann! Weil: so ein Pattern braucht Zeit\, sich zu entwickeln. Je nachdem\,
  welche Fibo-Ratios bei welcher Strecke erreicht werden\, können bestimmt
 e Pattern ausgeschlossen und andere in die engere Auswahl genommen werden.
  Damit können bereits vorab mögliche Einstiege\, Stopps und Take Profits
  definiert werden. Und – in Abhängigkeit der Kontogröße und des pers
 önlichen Risk- und Money-Managements – kann im Voraus die Positionsgrö
 ße und das CRV berechnet werden. Sie springen also nicht blind und ad hoc
  in einen Trade – Sie können jeden Trade in Ruhe planen und vorbereiten
 !\n\nKarin Roller leitet die Regionalgruppe Stuttgart und ist Mitglied de
 s Vorstands der VTAD. Für ihr tägliches Trading ist das wichtigste techn
 ische Analysetool Ichimoku Kinko Hyo in Kombination mit Elliott-Waves un
 d Fibonacci.\nMehr Infos unter www.boersen-knowhow.de
CATEGORIES:Stuttgart
END:VEVENT
BEGIN:VTIMEZONE
TZID:Europe/Berlin
X-LIC-LOCATION:Europe/Berlin
BEGIN:DAYLIGHT
DTSTART:20180325T030000
TZOFFSETFROM:+0100
TZOFFSETTO:+0200
TZNAME:CEST
END:DAYLIGHT
END:VTIMEZONE
END:VCALENDAR