BEGIN:VCALENDAR
VERSION:2.0
PRODID:-//wp-events-plugin.com//7.2.3.1//EN
TZID:Europe/Berlin
X-WR-TIMEZONE:Europe/Berlin
BEGIN:VEVENT
UID:819@labor.vtad.de
DTSTART;TZID=Europe/Berlin:20240408T183000
DTEND;TZID=Europe/Berlin:20240408T203000
DTSTAMP:20240305T091554Z
URL:https://labor.vtad.de/rgt/nach-der-theorie-die-praxis/
SUMMARY:Nach der Theorie\, die Praxis!
DESCRIPTION:Nach dem letzten Besuch von Christoph Geyer wurde die Bitte ge
 äußert\, die theoretischen Ansätze\, die er vorgetragen hat\, mit prakt
 ischen Beispielen zu unterlegen. Diesen Wunsch wird Geyer bei seinem diesj
 ährigen Besuch gerne erfüllen.\n\nEr wird mit Charts und Indikatoren abe
 r auch Saisonalitäten arbeiten und so praktische Hinweise für den Umgang
  mit der Technischen Analyse geben. Dabei steht er zur Analyse „auf Zuru
 f“ zur Verfügung. Sie können also Ihre Favoriten nennen und Geyer wird
  diese dann entsprechend begutachten.\n\nEin aktuelles Sonderthema wird ge
 wiss auch wieder Einzug in seinen Vortrag halten. Somit ist für einen int
 eressanten Abend gesorgt.\n\nVita:\n\nChristoph Geyer war über 41 Jahre 
 im Bankgeschäft tätig und betreibt die Technische Analyse seit über 45 
 Jahren. Als Ausbilder für angehende Technische Analysten und stellvertret
 ender Regionalmanager der Gruppe Frankfurt engagiert er sich bei der VTAD 
 e.V. (Vereinigung Technischer Analysten Deutschlands). Im Jahr 2011 hat er
 \, nach den beiden dritten Plätzen\, den „Technischer Analysten Award
 “ der Börsenzeitung gewonnen. Geyer ist Buchautor und hat u.a. das Fach
 buch „Einfach richtig Geld verdienen mit Technischer Analyse“ 2. Aufla
 ge (Wiley-Verlag) verfasst. Ein weiteres Buch ist in Vorbereitung.\n\nEr b
 etreibt einen Youtube-Kanal (Christoph Geyer\, CFTe) auf dem er wöchentli
 ch Analysen und Meinungen zu Märkten und Gold veröffentlicht. Besonders 
 beliebt ist seine monatliche Chart-Show\, die er in Zusammenarbeit mit der
  Börse Düsseldorf kostenfrei anbietet. In dieser Online-Liveveranstaltun
 g analysiert er Einzelwerte\, Märkte\, Aktien und Rohstoffe auf Zuruf. Be
 sondere aktuelle Themen werden aufgegriffen und erklärt.\n\nAnmeldung hie
 r\, um eine Erinnerungsmail mit dem Zugangslink für die Chart-Show zu erh
 alten.\n\nTermine für seine Schulungen und/oder Vorträge finden Sie auf 
 seiner Webseite www.christophgeyer.de .
CATEGORIES:Freiburg
LOCATION:Novotel Freiburg am Konzerthaus Hotel
X-APPLE-STRUCTURED-LOCATION;VALUE=URI;X-ADDRESS= Konrad Adenauer Platz 2\, 
 Freiburg im Breisgau\, 79098\, Deutschland;X-APPLE-RADIUS=100;X-TITLE=Novo
 tel Freiburg am Konzerthaus Hotel:geo:0,0
END:VEVENT
BEGIN:VTIMEZONE
TZID:Europe/Berlin
X-LIC-LOCATION:Europe/Berlin
BEGIN:DAYLIGHT
DTSTART:20240331T030000
TZOFFSETFROM:+0100
TZOFFSETTO:+0200
TZNAME:CEST
END:DAYLIGHT
END:VTIMEZONE
END:VCALENDAR