BEGIN:VCALENDAR
VERSION:2.0
PRODID:-//wp-events-plugin.com//7.2.3.1//EN
TZID:Europe/Berlin
X-WR-TIMEZONE:Europe/Berlin
BEGIN:VEVENT
UID:451@labor.vtad.de
DTSTART;TZID=Europe/Berlin:20210923T183000
DTEND;TZID=Europe/Berlin:20210923T183000
DTSTAMP:20210827T172920Z
URL:https://labor.vtad.de/rgt/n-n/
SUMMARY:Die Börsenbullen kommen - zunächst der ForexBull im Detail
DESCRIPTION:Wie im Magazin der VTAD-Frühjahresausgabe schon dargestellt\, 
 liefert der ForexBull den buchstäblichen Einblick in die Kristallkugel de
 s Tages. Dieses Handelssignal-Tool\, welches nicht nur speziell für den F
 orex-Markt seine Verwendung findet\, sondern gleichwohl im Index-\, Krypto
 - und Rohstoff-Segment genutzt werden kann\, vollzieht eine tagesaktuelle 
 (Intraday) Vorfilterung der vielversprechendsten Signale im Rahmen einer s
 peziellen Analyse der historischen Entwicklung. Erhalte spannende Einblick
 e zum ForexBull und erfahre\, neben den Tools zur Saisonalität oder bspw.
  der Wochentagsstärke\, mehr über den eigens entwickelten Screener wie a
 uch den Expert-Advisor (EA). Der abschließende Blick auf saisonal interes
 sante Swing-Trading-Chancen darf natürlich nicht fehlen.\n\n&nbsp\;\n\nAl
 s Betriebswirt in Finanzwirtschaft und Certified Financial Technician II (
 CFTe)\, ist Christian Kämmerer seit zwei Jahrzehnten im Bereich der Techn
 ischen Analyse und des Tradings tätig. 2008 gründete er den Webdienst TA
 4YOU und widmet sich\, neben der charttechnischen Auswertung für diverse 
 Internetportale\, im Schwerpunkt dem aktiven Devisenhandel.\n\nSeit Juni 2
 013 vertiefte sich seine Verbindung zur Broker-Branche. Dabei ergänzte er
  sein bestehendes Tätigkeitsfeld um die Funktion des "Head of Research &a
 mp\; Analysis Germany" bei JFD. Mit Beginn des Jahres 2016 erweiterte sich
  sein Verantwortungsbereich durch die neue Funktion des „Head of German 
 Speaking Markets“. Speziell als Tied Agent etablierte er in den nachfolg
 enden Jahren die Vormachtstellung von JFD im D-A-CH-Raum.\n\nMit der seit 
 2021 erfolgten Wiederaufnahme des Rainbow-Tradings und dem anvisierten Sta
 rt des Duos "boersenbullen"\, im Kontext diverser Asset-Klassen\, ist es s
 ein Ziel\, die Mystik rund um die Finanzmärkte und des Tradings für jede
 n greifbar zu machen.
CATEGORIES:Stuttgart
LOCATION:Hospitalhof Stuttgart
X-APPLE-STRUCTURED-LOCATION;VALUE=URI;X-ADDRESS=Büchsenstraße 33\, Stuttg
 art\, Baden-Württemberg\, 70174\, Deutschland;X-APPLE-RADIUS=100;X-TITLE=
 Hospitalhof Stuttgart:geo:0,0
END:VEVENT
BEGIN:VTIMEZONE
TZID:Europe/Berlin
X-LIC-LOCATION:Europe/Berlin
BEGIN:DAYLIGHT
DTSTART:20210328T030000
TZOFFSETFROM:+0100
TZOFFSETTO:+0200
TZNAME:CEST
END:DAYLIGHT
END:VTIMEZONE
END:VCALENDAR