BEGIN:VCALENDAR
VERSION:2.0
PRODID:-//wp-events-plugin.com//7.2.3.1//EN
TZID:Europe/Berlin
X-WR-TIMEZONE:Europe/Berlin
BEGIN:VEVENT
UID:43@labor.vtad.de
DTSTART;TZID=Europe/Berlin:20181122T183000
DTEND;TZID=Europe/Berlin:20181122T210000
DTSTAMP:20180920T084309Z
URL:https://labor.vtad.de/rgt/langfristanalyse-von-edel-und-basismetallen-
 2/
SUMMARY:Langfristanalyse von Edel- und Basismetallen
DESCRIPTION:Der Börsenfachwirt und Technische Analyst ist seit dem Jahr 20
 05 Geschäftsführer der Edelmetallhandelsfirma Argentuminvest GmbH mit Si
 tz in Straubing/Niederbayern. Seit 2004 ist Richard Mayr als Investor Rela
 tions Manager für börsennotierte Minengesellschaften tätig und ist in d
 er kanadischen Minenbranche sehr gut vernetzt. Zu seinen Analysemethoden z
 ählen langfristige Zyklen\, Preis-Ratios und die Sentiment-Analyse. Er wa
 r Mitbegründer der Internationalen Edelmetallmesse in München und war vi
 ele Jahre als Regionalgruppenmanager der Vereinigung Technischer Analysten
  Deutschlands (VTAD) e.V. in Neustadt a.d. Waldnaab und in Regensburg akti
 v.\n\nUnter dem Vortragsthema "Eine langfristige Betrachtung der Edelmetal
 lmärkte. Befinden sich die Edelmetalle am Ende der Korrektur und vor dem 
 nächsten Aufwärtsschub?" wird es um die zukünftigen Aussichten von Ede
 l- und Basismetallen gehen.\n\nACHTUNG: aufgrund der Anreise von Herrn May
 r beginnt sein Vortrag erst um 19:30h !\n\nVon 18:45h bis 19:30h wird unse
 r stellv. Regionalmanager Ralf Fayad (CFTe) im Rahmen eines  Kurzvortrage
 s eine Einführung in den CoT-Report geben und einen Blick auf die aktuell
 e Situation einzelner Märkte werfen.
CATEGORIES:Nürnberg
LOCATION:Technische Hochschule Nürnberg
X-APPLE-STRUCTURED-LOCATION;VALUE=URI;X-ADDRESS=Keßlerplatz 12\, Nürnberg
 \, 90489\, Deutschland;X-APPLE-RADIUS=100;X-TITLE=Technische Hochschule N
 ürnberg:geo:0,0
END:VEVENT
BEGIN:VTIMEZONE
TZID:Europe/Berlin
X-LIC-LOCATION:Europe/Berlin
BEGIN:STANDARD
DTSTART:20181028T020000
TZOFFSETFROM:+0200
TZOFFSETTO:+0100
TZNAME:CET
END:STANDARD
END:VTIMEZONE
END:VCALENDAR