BEGIN:VCALENDAR
VERSION:2.0
PRODID:-//wp-events-plugin.com//7.2.3.1//EN
TZID:Europe/Berlin
X-WR-TIMEZONE:Europe/Berlin
BEGIN:VEVENT
UID:2@labor.vtad.de
DTSTART;TZID=Europe/Berlin:20181018T183000
DTEND;TZID=Europe/Berlin:20181018T183000
DTSTAMP:20180910T072821Z
URL:https://labor.vtad.de/rgt/langfristanalyse-der-edel-und-basismetalle/
SUMMARY:Langfristanalyse der Edel- und Basismetalle
DESCRIPTION:Der Börsenfachwirt und Technische Analyst ist seit dem Jahr 20
 05 Geschäftsführer der Edelmetallhandelsfirma Argentuminvest GmbH mit Si
 tz in Straubing/Niederbayern. Seit 2004 ist Richard Mayr als Investor Rela
 tions Manager für börsennotierte Minengesellschaften tätig und ist in d
 er kanadischen Minenbranche sehr gut vernetzt. Zu seinen Analysemethoden z
 ählen langfristige Zyklen\, Preis-Ratios und die Sentiment-Analyse. Er wa
 r Mitbegründer der Internationalen Edelmetallmesse in München und war vi
 ele Jahre als Regionalgruppenmanager der Vereinigung Technischer Analysten
  Deutschlands (VTAD) e.V. in Neustadt a.d. Waldnaab und in Regensburg akti
 v.\n\nUnter dem Vortragsthema "Eine langfristige Betrachtung der Edelmetal
 lmärkte. Befinden sich die Edelmetalle am Ende der Korrektur und vor dem 
 nächsten Aufwärtsschub?" wird es um die zukünftigen Aussichten von Ede
 l- und Basismetallen gehen.
CATEGORIES:Stuttgart
LOCATION:Haus der Wirtschaft
X-APPLE-STRUCTURED-LOCATION;VALUE=URI;X-ADDRESS= Willi-Bleicher-Straße 19\
 , Stuttgart\, 71174\, Deutschland;X-APPLE-RADIUS=100;X-TITLE=Haus der Wirt
 schaft:geo:0,0
END:VEVENT
BEGIN:VTIMEZONE
TZID:Europe/Berlin
X-LIC-LOCATION:Europe/Berlin
BEGIN:DAYLIGHT
DTSTART:20180325T030000
TZOFFSETFROM:+0100
TZOFFSETTO:+0200
TZNAME:CEST
END:DAYLIGHT
END:VTIMEZONE
END:VCALENDAR