BEGIN:VCALENDAR
VERSION:2.0
PRODID:-//wp-events-plugin.com//7.2.3.1//EN
TZID:Europe/Berlin
X-WR-TIMEZONE:Europe/Berlin
BEGIN:VEVENT
UID:56@labor.vtad.de
DTSTART;TZID=Europe/Berlin:20181213T183000
DTEND;TZID=Europe/Berlin:20181213T183000
DTSTAMP:20180921T121933Z
URL:https://labor.vtad.de/rgt/kleines-konto-gross-traden-3/
SUMMARY:Kleines Konto groß traden
DESCRIPTION:\n\n\nMit Disziplin und der richtigen Vorbereitung ist es mögl
 ich\, aus einem kleinen Konto ein großes zu ertraden. Mario Lüddemann\, 
 erfahrener Trading-Coach\, zeigt Ihnen\, wie Sie an der Börse regelmäßi
 g und vor allem zuverlässig 20 bis 40 Prozent Rendite pro Jahr erzielen k
 önnen\, noch dazu mit nur wenigen Trades pro Monat. Mit einer Mischung au
 s striktem Risikomanagement und markttechnisch fundierter Trendfolge gelin
 gt es deshalb auch Einsteigern\, ein kleines Konto groß zu traden. Dass d
 ieses Konzept auch in der Praxis funktioniert – egal ob die Märkte stei
 gen oder fallen -\, verdeutlicht Mario Ihnen in diesem Vortrag.\n\nSeit me
 hr als 20 Jahren arbeitet Mario Lüddemann als freier Börsenhändler\, ze
 rtifizierter Trading-Coach\, Management-Trainer und Speaker. Zusätzlich v
 erwaltet er als Portfoliomanager einen Managed Account\, sodass auch int
 eressierte Anleger direkt von seiner Performance profitieren können.\nGer
 ade im Bereich der Finanzmärkte ist es unerlässlich\, einen äußerst ko
 mpetenten und langjährig erfahrenen Coach an seiner Seite zu haben. Mario
  Lüddemann verfügt über eine Expertise\, die es ihm ermöglicht\, konst
 ant an den Finanzmärkten profitabel zu handeln. Zu seinen Kunden zählen 
 sowohl Mitarbeiter von Banken\, Brokern\, Vermögensverwaltungen als auch 
 private Trader.\nSeinen Vortrag „Kleines Konto groß traden“ haben be
 reits mehr als 115.000 interessierte Anleger und Trader gesehen.\nNeben se
 inen Individual-Coachings veranstaltet er regelmäßig Intensiv-Workshops 
 und Webinare. Sein Schwerpunkt liegt im markttechnischen Aktien- undIndext
 rading\, sowie der Erstellung von Systemportfolios.\n\nAuf seiner Website
  www.lueddemann-coaching.de\, veröffentlicht er u.a. regelmäßig seinen
  Wochenausblick und zahlreiche Lehrvideos.\n\nKontakt: info@lueddemann-co
 aching.de\n
CATEGORIES:Stuttgart
LOCATION:Haus der Wirtschaft
X-APPLE-STRUCTURED-LOCATION;VALUE=URI;X-ADDRESS= Willi-Bleicher-Straße 19\
 , Stuttgart\, 71174\, Deutschland;X-APPLE-RADIUS=100;X-TITLE=Haus der Wirt
 schaft:geo:0,0
END:VEVENT
BEGIN:VTIMEZONE
TZID:Europe/Berlin
X-LIC-LOCATION:Europe/Berlin
BEGIN:STANDARD
DTSTART:20181028T020000
TZOFFSETFROM:+0200
TZOFFSETTO:+0100
TZNAME:CET
END:STANDARD
END:VTIMEZONE
END:VCALENDAR