BEGIN:VCALENDAR
VERSION:2.0
PRODID:-//wp-events-plugin.com//7.2.3.1//EN
TZID:Europe/Berlin
X-WR-TIMEZONE:Europe/Berlin
BEGIN:VEVENT
UID:513@labor.vtad.de
DTSTART;TZID=Europe/Berlin:20220317T183000
DTEND;TZID=Europe/Berlin:20220317T210000
DTSTAMP:20220325T201418Z
URL:https://labor.vtad.de/rgt/jahresausblick-2022-2/
SUMMARY:Jahresausblick 2022 (Webinar)
DESCRIPTION:Vortragsunterlagen: [members_logged_in] VTAD_Vortrag_03_2022[/m
 embers_logged_in]\n\nUnter dem Motto „Anatomie eines Bull Marktes\, Atme
 n nach dem Großen Impuls. Kann Gold als Anker in der Inflation aus der ma
 nipulierten Konstellation ausbrechen?“ präsentiert im Rahmen unserer Ve
 ranstaltung im März unser Referent Dietrich Denkhaus seinen Jahresausblic
 k auf das bereits laufende Jahr 2022. Wir freuen uns auf einen spannenden 
 Vortrag.\n\nAchtung: die Veranstaltung findet ausnahmsweise NICHT als Prä
 senzveranstaltung im „Haus eckstein“ sondern als Online-Webinar statt.
  \n\nÜber den Referenten:\n\nDer 54-jährige Diplom-Ökonom Dietrich Den
 khaus gibt seit Beginn der VTAD-Frühjahrskonferenz dort seine Prognose u
 ̈ber die internationalen Aktienindizes zum Besten. Der Elliott-Wellen-Spe
 zialist kombiniert seit Jahren zyklische Kurs- und Zeitmuster aus Sicht de
 r Elliott-Wellen-Theorie mit klassischer Charttechnik und dem zugrunde lie
 genden strategischen Kursmomentum. Der in einer Versicherungs-Kapitalanlag
 egesellschaft tätige Portfolio- und Fondsmanager besitzt den Abschluss de
 s CEFA Investmentanalyst/DVFA sowie des CFTe II.
CATEGORIES:Nürnberg
END:VEVENT
BEGIN:VTIMEZONE
TZID:Europe/Berlin
X-LIC-LOCATION:Europe/Berlin
BEGIN:STANDARD
DTSTART:20211031T020000
TZOFFSETFROM:+0200
TZOFFSETTO:+0100
TZNAME:CET
END:STANDARD
END:VTIMEZONE
END:VCALENDAR