BEGIN:VCALENDAR
VERSION:2.0
PRODID:-//wp-events-plugin.com//7.2.3.1//EN
TZID:Europe/Berlin
X-WR-TIMEZONE:Europe/Berlin
BEGIN:VEVENT
UID:719@labor.vtad.de
DTSTART;TZID=Europe/Berlin:20231009T183000
DTEND;TZID=Europe/Berlin:20231009T213000
DTSTAMP:20230523T151100Z
URL:https://labor.vtad.de/rgt/ich-bleibe-dabei-es-sollte-einfach-sein-weil
 -ich-es-einfach-liebe/
SUMMARY:Ich bleibe dabei: Es sollte einfach sein\, „weil ich es einfach l
 iebe“!
DESCRIPTION:Ein solider Handelsansatz ist nicht schwer und spart Nerven und
  Geld. Geyer stellt einen Handelsansatz vor\, der sehr einfach und für je
 den nachvollziehbar ist.\n\nWenn Sie jetzt sagen: Das kommt mir doch bekan
 nt vor\, haben Sie recht.\nBereits im Dezember 2022 ist Geyer mit diesem E
 instieg in unserer Freiburger Regionalgruppe für einen Vortrag zu Gast ge
 wesen.\n\nDarauf möchte er nun aufbauend weitere leicht verständliche An
 sätze speziell mit Indikatoren und Saisonalitäten vorstellen. Nicht nur 
 ein guter Einstieg\, sondern auch ein guter Ausstieg spielt eine große Ro
 lle\, um am Markt erfolgreich zu agieren.\n\nEr wird zudem zeigen\, wie si
 ch sein Handelssystem\, welches er im Dezember vorgestellt hatte\, weitere
 ntwickelte. Da es bei Geyer keine Black-Box gibt\, wird er alle Fragen\, d
 ie er beantworten kann\, auch beantworten.\n\nAls Abrundung wird er zum Sc
 hluss das Gezeigte in seiner beliebten Live-Analyse auf Zuruf anwenden und
  auch Saisonalitäten mit dem Seasonax-Programm einbeziehen.\n\n&nbsp\;\n\
 nChristoph Geyer war über 41 Jahre im Bankgeschäft tätig und betreibt d
 ie Technische Analyse seit über 45 Jahren. Als Ausbilder für angehende T
 echnische Analysten und stellvertretender Regionalmanager der Gruppe Frank
 furt engagiert er sich bei der VTAD e.V. (Vereinigung Technischer Analyste
 n Deutschlands). Im Jahr 2011 hat er\, nach den beiden dritten Plätzen\, 
 den „Technischer Analysten Award“ der Börsenzeitung gewonnen. Geyer i
 st Buchautor und hat u.a. das Fachbuch „Einfach richtig Geld verdienen m
 it Technischer Analyse“ 2. Auflage (Wiley-Verlag) verfasst. Ein weiteres
  Buch ist in Vorbereitung.\n\nEr betreibt einen Youtube-Kanal (Christoph G
 eyer\, CFTe) auf dem er wöchentlich Analysen und Meinungen zu Märkten un
 d Gold veröffentlicht. Besonders beliebt ist seine monatliche Chart-Show\
 , die er in Zusammenarbeit mit der Börse Düsseldorf kostenfrei anbietet.
  In dieser Online-Liveveranstaltung analysiert er Einzelwerte\, Märkte\, 
 Aktien und Rohstoffe auf Zuruf. Besondere aktuelle Themen werden aufgegrif
 fen und erklärt. \n\nAnmeldung hier\, um eine Erinnerungsmail mit dem Zu
 gangscode für die Chart-Show zu erhalten.\n\nTermine für seine Schulunge
 n und/oder Vorträge finden Sie auf seiner Webseite www.christophgeyer.de 
 .
CATEGORIES:Freiburg
LOCATION:InterCityHotel Freiburg
X-APPLE-STRUCTURED-LOCATION;VALUE=URI;X-ADDRESS=Bismarckallee 3\, Freiburg\
 , 79098 \, Deutschland;X-APPLE-RADIUS=100;X-TITLE=InterCityHotel Freiburg:
 geo:0,0
END:VEVENT
BEGIN:VTIMEZONE
TZID:Europe/Berlin
X-LIC-LOCATION:Europe/Berlin
BEGIN:DAYLIGHT
DTSTART:20230326T030000
TZOFFSETFROM:+0100
TZOFFSETTO:+0200
TZNAME:CEST
END:DAYLIGHT
END:VTIMEZONE
END:VCALENDAR