BEGIN:VCALENDAR
VERSION:2.0
PRODID:-//wp-events-plugin.com//7.2.3.1//EN
TZID:Europe/Berlin
X-WR-TIMEZONE:Europe/Berlin
BEGIN:VEVENT
UID:32@labor.vtad.de
DTSTART;TZID=Europe/Berlin:20180816T183000
DTEND;TZID=Europe/Berlin:20180816T230000
DTSTAMP:20180810T123657Z
URL:https://labor.vtad.de/rgt/gemuetliches-sommertreffen-im-biergarten/
SUMMARY:Gemütliches Sommertreffen im Biergarten
DESCRIPTION:Da der August vortragsfrei ist treffen wir uns am 16. August in
  lockerer Atmosphäre in einem Biergarten zum Gedankenaustausch und Gespr
 ächen getreu des Mottos "Eating out &amp\; Getting drunk".\n\nDie Locatio
 n des Treffens wird rechtzeitig per Mail bekanntgegeben..
CATEGORIES:Nürnberg
END:VEVENT
BEGIN:VTIMEZONE
TZID:Europe/Berlin
X-LIC-LOCATION:Europe/Berlin
BEGIN:DAYLIGHT
DTSTART:20180325T030000
TZOFFSETFROM:+0100
TZOFFSETTO:+0200
TZNAME:CEST
END:DAYLIGHT
END:VTIMEZONE
END:VCALENDAR