BEGIN:VCALENDAR
VERSION:2.0
PRODID:-//wp-events-plugin.com//7.2.3.1//EN
TZID:Europe/Berlin
X-WR-TIMEZONE:Europe/Berlin
BEGIN:VEVENT
UID:571@labor.vtad.de
DTSTART;TZID=Europe/Berlin:20221114T183000
DTEND;TZID=Europe/Berlin:20221114T210000
DTSTAMP:20221118T112043Z
URL:https://labor.vtad.de/rgt/folgt-67/
SUMMARY:Kerzenchartanalyse im Aktienhandel
DESCRIPTION:Worauf sollen Sie bei der Analyse mit Kerzencharts achten?\nWel
 che Formationen funktionieren am zuverlässigsten?\nPraxisbeispiele mit ak
 tuellen Signalen.\n\nWie geht es weiter mit der Regionalgruppe Freiburg?\n
 Interessierte Mitglieder werden aufgefordert an diesem Abend anwesend zu s
 ein!\n\nManfred Schwendemann ist Certified Financial Technician und gründ
 ete die Regionalgruppe für die VTAD in Freiburg.\nEr war über viele Jahr
 e im Vorstand der VTAD und handelt heute längerfristige Setups im EOD-Han
 del.
CATEGORIES:Freiburg
LOCATION:Grünhof
X-APPLE-STRUCTURED-LOCATION;VALUE=URI;X-ADDRESS=Belfortstr. 52\, Freiburg i
 m Breisgau\, 79098\, Deutschland;X-APPLE-RADIUS=100;X-TITLE=Grünhof:geo:0
 ,0
END:VEVENT
BEGIN:VTIMEZONE
TZID:Europe/Berlin
X-LIC-LOCATION:Europe/Berlin
BEGIN:STANDARD
DTSTART:20221030T020000
TZOFFSETFROM:+0200
TZOFFSETTO:+0100
TZNAME:CET
END:STANDARD
END:VTIMEZONE
END:VCALENDAR