BEGIN:VCALENDAR
VERSION:2.0
PRODID:-//wp-events-plugin.com//7.2.3.1//EN
TZID:Europe/Berlin
X-WR-TIMEZONE:Europe/Berlin
BEGIN:VEVENT
UID:568@labor.vtad.de
DTSTART;TZID=Europe/Berlin:20220912T183000
DTEND;TZID=Europe/Berlin:20220912T210000
DTSTAMP:20220831T125322Z
URL:https://labor.vtad.de/rgt/folgt-61/
SUMMARY:Langfristige Prognose der wichtigsten Märkte
DESCRIPTION:Wir werfen gemeinsam einen Blick mit Fibonacci\, Ichimoku und C
 o. auf die wichtigsten Märkte und wagen eine Prognose für die nächsten 
 Monate. Nicht nur DAX\, S&amp\;P 500\, EURUSD\, Öl\, Gold werden wir anal
 ysieren\, auch die inverse Zinskurve und deren Aussagekraft nehmen wir unt
 er die Lupe.\n\nKarin Roller (CFTe) ist Traderin\, Autorin\, Vorstandsmit
 glied der VTAD und leitet unsere Regionalgruppe in Stuttgart.
CATEGORIES:Freiburg
LOCATION:Grünhof
X-APPLE-STRUCTURED-LOCATION;VALUE=URI;X-ADDRESS=Belfortstr. 52\, Freiburg i
 m Breisgau\, 79098\, Deutschland;X-APPLE-RADIUS=100;X-TITLE=Grünhof:geo:0
 ,0
END:VEVENT
BEGIN:VTIMEZONE
TZID:Europe/Berlin
X-LIC-LOCATION:Europe/Berlin
BEGIN:DAYLIGHT
DTSTART:20220327T030000
TZOFFSETFROM:+0100
TZOFFSETTO:+0200
TZNAME:CEST
END:DAYLIGHT
END:VTIMEZONE
END:VCALENDAR