BEGIN:VCALENDAR
VERSION:2.0
PRODID:-//wp-events-plugin.com//7.2.3.1//EN
TZID:Europe/Berlin
X-WR-TIMEZONE:Europe/Berlin
BEGIN:VEVENT
UID:55@labor.vtad.de
DTSTART;TZID=Europe/Berlin:20181018T183000
DTEND;TZID=Europe/Berlin:20181018T210000
DTSTAMP:20181008T074904Z
URL:https://labor.vtad.de/rgt/folgt-6/
SUMMARY:Das IVY-Portfolio: Eine klassische Top-Down Selektion in zwei Stufe
 n
DESCRIPTION:\n\n\n\n\n1) Zur Person:\n\nHerr Jäkle handelt seit knapp 25 J
 ahren Aktien und seit über 20 Jahren Futures. Er hat früh damit begonne
 n\, seine Handelskonzepte zu programmieren und zu testen. Reproduzierbarke
 it und Überprüfbarkeit waren schon immer seine wichtigsten Prinzipien. 
 Herr Jäkle war auf dem Parkett der Chicago Mercantile Exchange tätig und
  hat jahrelang institutionelles Geld mit Daytrading-Handelssystemen auf Fu
 tures verwaltet. Aus dieser Arbeit sind einige Artikel im Traders' und das
  Buch 'Trading Systems' (Harriman Verlag\, 2009) entstanden.\nJäkles neue
 ste Arbeiten betreffen langsamere End-Of-Day-Handelssysteme an den Aktienm
 ärkten. Wie bei den schnellen und hoch gehebelten Futures arbeiten seine 
 Strategien auf Aktien aber ebenso nach nachvollziehbaren Regeln. Vorbild f
 ür seine aktuelle Strategie war das sog. "IVY-Portfolio"\, mit dem die St
 iftungen der Elite-Universitäten Harvard und Yale seit den 70er Jahren re
 gelmäßig zweistellige Renditen mit kaum nennenswerten Rückgängen erzie
 len.\nHerr Jäkle hat diesen von Meb Faber beschriebenen Ansatz zusammen m
 it der Momentumstrategie des Fonds-Managers Andreas Clenow eng angelehnt a
 n die Literatur in einem klassischen Top-Down-System umgesetzt. Dieses ist
  mittlerweile auch für Privatanleger umsetzbar. In der Variante für Eins
 teiger mit der Software TAIPAN oder für Fortgeschrittene\, die auch Backt
 ests machen wollen\, mit der Software AMIBROKER. Zudem gibt es zur Strate
 gie inzwischen auch ein transparentes Musterportfolio\, ein sog. wikifolio
 \, wo Sie jeden einzelnen Trade und die Performance nachverfolgen können.
 \n\n2) Thema des Vortrages:\nDas IVY-Portfolio: Eine klassische Top-Down S
 elektion in zwei Stufen\nA: Theorie:\nStufe 1: Marktauswahl aus fünf Mark
 tgruppen: Aktien USA\, Aktien Welt ohne USA\, Rohstoffe\, Immobilien und A
 nleihen. In Anlehnung an das Buch von Meb Faber "The IVY Portfolio"\nStufe
  2: Aktienselektion durch Momentum. Eine komplette Handelsanweisung in Anl
 ehnung an das Buch von Andreas Clenow "Stocks on the Move"\nB: Praxis:\nUm
 setzung mit der Börsensoftware TAIPAN\nC: Ergebnisse\nBacktests mit der S
 oftware Amibroker. Transparentes Musterdepot "Wikifolio"\n\nWeitere Inform
 ationen finden Sie auf seiner Webseite www.urban-stocks.com.\n\n\n\n\n
CATEGORIES:Nürnberg
LOCATION:Technische Hochschule Nürnberg
X-APPLE-STRUCTURED-LOCATION;VALUE=URI;X-ADDRESS=Keßlerplatz 12\, Nürnberg
 \, 90489\, Deutschland;X-APPLE-RADIUS=100;X-TITLE=Technische Hochschule N
 ürnberg:geo:0,0
END:VEVENT
BEGIN:VTIMEZONE
TZID:Europe/Berlin
X-LIC-LOCATION:Europe/Berlin
BEGIN:DAYLIGHT
DTSTART:20180325T030000
TZOFFSETFROM:+0100
TZOFFSETTO:+0200
TZNAME:CEST
END:DAYLIGHT
END:VTIMEZONE
END:VCALENDAR