BEGIN:VCALENDAR
VERSION:2.0
PRODID:-//wp-events-plugin.com//7.2.3.1//EN
TZID:Europe/Berlin
X-WR-TIMEZONE:Europe/Berlin
BEGIN:VEVENT
UID:518@labor.vtad.de
DTSTART;TZID=Europe/Berlin:20220411T183000
DTEND;TZID=Europe/Berlin:20220411T210000
DTSTAMP:20220223T103115Z
URL:https://labor.vtad.de/rgt/folgt-43/
SUMMARY:Indikatoren und Oszillatoren - Workshop
DESCRIPTION:Viele Trader nutzen Indikatoren und Oszillatoren für die Anzei
 ge im Chart und für ihre Tradingentscheidungen. Dabei wissen einige der T
 rader gar nicht\, was der eine oder andere Indikator überhaupt misst.\nMa
 nfred bespricht die wichtigsten Indikatoren und zeigt deren Logik und wie 
 sie eingesetzt werden sollten.\n\nManfred Schwendemann beschäftigt sich b
 ereits seit 1996 mit dem Börsenhandel.\nSeit 2003 handelt er mit CFDs\, F
 orex und Futures und spezialisierte sich dabei auf die Anwendung der japan
 ischen Kerzenchartanalyse.\nEr ist Certified Financial Technician und grü
 ndete die Regionalgruppe für die VTAD in Freiburg.\nEr war mehrere Jahre 
 Vorstandsmitglied bei der VTAD und handelt heute längerfristige Setups un
 d nutzt dabei sein übergreifendes Fachwissen für seine Entscheidungen am
  Markt.
CATEGORIES:Freiburg
LOCATION:Grünhof
X-APPLE-STRUCTURED-LOCATION;VALUE=URI;X-ADDRESS=Belfortstr. 52\, Freiburg i
 m Breisgau\, 79098\, Deutschland;X-APPLE-RADIUS=100;X-TITLE=Grünhof:geo:0
 ,0
END:VEVENT
BEGIN:VTIMEZONE
TZID:Europe/Berlin
X-LIC-LOCATION:Europe/Berlin
BEGIN:DAYLIGHT
DTSTART:20220327T030000
TZOFFSETFROM:+0100
TZOFFSETTO:+0200
TZNAME:CEST
END:DAYLIGHT
END:VTIMEZONE
END:VCALENDAR