BEGIN:VCALENDAR
VERSION:2.0
PRODID:-//wp-events-plugin.com//7.2.3.1//EN
TZID:Europe/Berlin
X-WR-TIMEZONE:Europe/Berlin
BEGIN:VEVENT
UID:227@labor.vtad.de
DTSTART;TZID=Europe/Berlin:20201012T183000
DTEND;TZID=Europe/Berlin:20201012T220000
DTSTAMP:20201001T141507Z
URL:https://labor.vtad.de/rgt/folgt-38/
SUMMARY:..but remember to come back on Halloween im US-Wahlzyklus
DESCRIPTION:Die Halloween-Strategie - im US-Wahlzyklus\n\nIn diesem Vortrag
  wird die Halloween-Strategie wissenschaftlich unter die Lupe genommen und
  der Einfluss des US-Wahlzyklus auf die Saisonalität der Aktienmärkte be
 trachtet.\nAus den Kenntnissen wird die Halloween-Strategie abgeleitet und
  einige Varianten vorgestellt. Eine saisonale Anlagestrategie sollte bei j
 edem Vermögen eingesetzt werden\, da die Halloween-Strategie nicht nur ei
 n hohe Renditeerwartung hat\, sondern als Beimischung das Risiko des Gesam
 tvermögens drastisch vermindert.\n\nThomas Hupp beschäftigt sich in der 
 Praxis seit 1996 mit Investmentfonds und Anlagestrategien\, ist Lehrbeauft
 ragter an der Dualen Hochschule Lörrach und ist als Fondsberater für Fon
 dsgesellschaften und Privatanleger tätig.\n\nFür weitere Informationen: 
 www.asset-oszillator.de
CATEGORIES:Freiburg
LOCATION:InterCityHotel Freiburg
X-APPLE-STRUCTURED-LOCATION;VALUE=URI;X-ADDRESS=Bismarckallee 3\, Freiburg\
 , 79098 \, Deutschland;X-APPLE-RADIUS=100;X-TITLE=InterCityHotel Freiburg:
 geo:0,0
END:VEVENT
BEGIN:VTIMEZONE
TZID:Europe/Berlin
X-LIC-LOCATION:Europe/Berlin
BEGIN:DAYLIGHT
DTSTART:20200329T030000
TZOFFSETFROM:+0100
TZOFFSETTO:+0200
TZNAME:CEST
END:DAYLIGHT
END:VTIMEZONE
END:VCALENDAR