BEGIN:VCALENDAR
VERSION:2.0
PRODID:-//wp-events-plugin.com//7.2.3.1//EN
TZID:Europe/Berlin
X-WR-TIMEZONE:Europe/Berlin
BEGIN:VEVENT
UID:209@labor.vtad.de
DTSTART;TZID=Europe/Berlin:20200713T183000
DTEND;TZID=Europe/Berlin:20200713T183000
DTSTAMP:20200709T184603Z
URL:https://labor.vtad.de/rgt/folgt-35/
SUMMARY:Findet statt!!! Trading braucht agile Persönlichkeiten
DESCRIPTION:Trendmuster\, Chartformationen\, Indikatoren und Handelssysteme
 . All das sind wichtige Hilfsmittel\, um Märkte zu beobachten. Doch um wa
 s geht es beim Trading wirklich? Es geht um Menschen. Einzelnen Menschen m
 it ihren Erwartungen\, Strategien und Ideen bestimmen den Verlauf an der B
 örse und vor allem das eigene Handeln.\n\nDaher ist wichtig\, sich damit 
 zu beschäftigen\, was Psychologie\, Verhaltensökonomie und Managementwis
 sen beitragen können\, das Handeln an der Börse erfolgreicher zu gestalt
 en.\n\nWas hat Agilität mit Börse zu tun? Welche Kompetenzen werden ben
 ötigt\, um an einem volatilen und unsicherem Markt zu bestehen? Welche Ro
 lle spielt Disziplin beim Trading? Was treibt uns in Stresssituation an? W
 elche Tradingfallen treten immer wieder auf?\n\nUnser Redner wird diesen F
 ragen nachgehen und Empfehlungen anbieten\, die helfen sollen\, Schwachste
 llen zu finden und Veränderungen im Trading möglich zu machen. Der Vortr
 ag ist für Trader ebenso geeignet wie für Anleger und Investoren.\n\nRü
 diger Skrzypek ist Diplom-Psychologe\, ausgebildeter Coach\, Hochschuldoze
 nt für Verhaltensökonomie und Behavioral Finance sowie gelernter Bankkau
 fmann. Er ist schon seit Jahrzehnten an der Börse aktiv. Als Eigenhändle
 r wendet er systematische Systeme an\, die er selbst entwickelt und getest
 et hat. 2019 wurde seine Forschungsarbeit beim VTAD-Award mit dem 2. Platz
  ausgezeichnet. Er arbeitet als Coach und Berater und begleitet Menschen\,
  Veränderungen im Denken und Verhalten umzusetzen. Seine Arbeitsschwerpun
 kte sind Business\, Karriere und Trading.\n\nWeitere Infos:  https://trad
 ingmuster.de/psychologie
CATEGORIES:Freiburg
LOCATION:InterCityHotel Freiburg
X-APPLE-STRUCTURED-LOCATION;VALUE=URI;X-ADDRESS=Bismarckallee 3\, Freiburg\
 , 79098 \, Deutschland;X-APPLE-RADIUS=100;X-TITLE=InterCityHotel Freiburg:
 geo:0,0
END:VEVENT
BEGIN:VTIMEZONE
TZID:Europe/Berlin
X-LIC-LOCATION:Europe/Berlin
BEGIN:DAYLIGHT
DTSTART:20200329T030000
TZOFFSETFROM:+0100
TZOFFSETTO:+0200
TZNAME:CEST
END:DAYLIGHT
END:VTIMEZONE
END:VCALENDAR