BEGIN:VCALENDAR
VERSION:2.0
PRODID:-//wp-events-plugin.com//7.2.3.1//EN
TZID:Europe/Berlin
X-WR-TIMEZONE:Europe/Berlin
BEGIN:VEVENT
UID:208@labor.vtad.de
DTSTART;TZID=Europe/Berlin:20200511T183000
DTEND;TZID=Europe/Berlin:20200511T183000
DTSTAMP:20200504T104456Z
URL:https://labor.vtad.de/rgt/folgt-34/
SUMMARY:ABGESAGT - Indikatoren und Oszillatoren Workshop
DESCRIPTION:Viele Trader nutzen Indikatoren und Oszillatoren für die Anzei
 ge im Chart und  für ihre Tradingentscheidungen. Dabei wissen einige der
  Trader gar nicht\, was der eine oder andere Indikator überhaupt misst.\n
 Manfred bespricht die wichtigsten Indikatoren und zeigt deren Logik und wi
 e sie eingesetzt werden sollten.\n\nManfred Schwendemann beschäftigt sich
  bereits seit 1996 mit dem Börsenhandel.\nSeit 2003 handelt er mit CFDs\,
  Forex und Futures und spezialisierte sich dabei auf die Anwendung der jap
 anischen Kerzenchartanalyse.\nEr ist Certified Financial Technician und gr
 ündete die Regionalgruppe für die VTAD in Freiburg.\nEr war mehrere Jahr
 e Vorstandsmitglied bei der VTAD und handelt heute längerfristige Setups 
 und nutzt dabei sein übergreifendes Fachwissen für seine Entscheidungen 
 am Markt.\n\n&nbsp\;
CATEGORIES:Freiburg
LOCATION:InterCityHotel Freiburg
X-APPLE-STRUCTURED-LOCATION;VALUE=URI;X-ADDRESS=Bismarckallee 3\, Freiburg\
 , 79098 \, Deutschland;X-APPLE-RADIUS=100;X-TITLE=InterCityHotel Freiburg:
 geo:0,0
END:VEVENT
BEGIN:VTIMEZONE
TZID:Europe/Berlin
X-LIC-LOCATION:Europe/Berlin
BEGIN:DAYLIGHT
DTSTART:20200329T030000
TZOFFSETFROM:+0100
TZOFFSETTO:+0200
TZNAME:CEST
END:DAYLIGHT
END:VTIMEZONE
END:VCALENDAR