BEGIN:VCALENDAR
VERSION:2.0
PRODID:-//wp-events-plugin.com//7.2.3.1//EN
TZID:Europe/Berlin
X-WR-TIMEZONE:Europe/Berlin
BEGIN:VEVENT
UID:50@labor.vtad.de
DTSTART;TZID=Europe/Berlin:20190211T183000
DTEND;TZID=Europe/Berlin:20190211T183000
DTSTAMP:20180926T083901Z
URL:https://labor.vtad.de/rgt/folgt-3/
SUMMARY:Mit Trend und technischen Tools zum dauerhaften Erfolg
DESCRIPTION:Das Geheimnis eines erfolgreichen Traders\n\nGlaubt man der Wer
 bung vieler Broker\, ist Trading eine ganz einfache Sache. Doch warum sche
 itern dann rund 80% aller privaten Trader dauerhaft? Mit der Hoffnung auf 
 unendliche Gewinne durch den Börsenhandel startet nahezu jeder Trader. Of
 tmals nähren die ersten Gewinne diese Hoffnung auch noch. Doch wenn sich 
 die ersten Verluste einstellen\, nimmt das Drama seinen Verlauf. Der natü
 rliche Überlebensinstinkt greift\, doch allzu oft bleibt am Ende nur noch
  Frust und viel zu große Verluste. Was machen erfolgreiche Händler ander
 s? Erfahren Sie in diesem Vortrag vom Berufshändler\, Ausbilder und Coach
  Markus Gabel wie man das Thema Börsenhandel auf Dauer profitabel und mö
 glichste schmerzfrei gestalten kann.\n\nMarkus Gabel ist seit dem Jahr 200
 0 im Finanzbereich tätig\, mit einer abgeschlossenen Ausbildung zum gepr
 üften Vermögensberater. Seit etlichen Jahren arbeitet als Händler in de
 r Vermögensverwaltung bei BORN STAHLBERG &amp\; Partner\,verantwortet ein
 en eigenen Ausbildungs- und Trading-Service namens DowHow Trading\, in dem
  er ca. 100 Klienten betreut. Zudem gibt Markus Gabel sein Wissen als Redn
 er auch im englischsprachigen Bereich weiter. Beruhend auf den Grundsätze
 n der Dowtheorie\, handelt Markus Gabel ausschließlich aus der Akkumulati
 onsphase heraus und findet auf Basis der natürlichen Fibonacci-Zahlenreih
 e einen klaren Einstieg\, Stopp und Ziel. Das Marktprofil rundet das Tradi
 ng ab und bringt höchste Wahrscheinlichkeiten für die Trades.
CATEGORIES:Freiburg
LOCATION:InterCityHotel Freiburg
X-APPLE-STRUCTURED-LOCATION;VALUE=URI;X-ADDRESS=Bismarckallee 3\, Freiburg\
 , 79098 \, Deutschland;X-APPLE-RADIUS=100;X-TITLE=InterCityHotel Freiburg:
 geo:0,0
END:VEVENT
BEGIN:VTIMEZONE
TZID:Europe/Berlin
X-LIC-LOCATION:Europe/Berlin
BEGIN:STANDARD
DTSTART:20181028T020000
TZOFFSETFROM:+0200
TZOFFSETTO:+0100
TZNAME:CET
END:STANDARD
END:VTIMEZONE
END:VCALENDAR