BEGIN:VCALENDAR
VERSION:2.0
PRODID:-//wp-events-plugin.com//7.2.3.1//EN
TZID:Europe/Berlin
X-WR-TIMEZONE:Europe/Berlin
BEGIN:VEVENT
UID:762@labor.vtad.de
DTSTART;TZID=Europe/Berlin:20240117T183000
DTEND;TZID=Europe/Berlin:20240117T210000
DTSTAMP:20240117T113521Z
URL:https://labor.vtad.de/rgt/edelmetalle/
SUMMARY:Investieren in Edelmetalle
DESCRIPTION:ACHTUNG: das heutige Treffen fällt aufgrund der akut gefährli
 chen Witterungslage leider aus ! \nDer Vortrag von Marco Freundl "Investie
 ren in Edelmetalle" wird am Dienstag\, den 14.05.2024 nachgeholt !\nVortra
 gsunterlagen (bitte einloggen!):\nThema: Investieren in Edelmetalle\n\nEde
 lmetalle wurden in den vergangenen Jahren nur stiefmütterlich behandelt u
 nd gerade von Deutschen Anlegern verschmäht. Dabei giert die ganze Welt i
 mmer mehr nach Gold. Zentralbanken kaufen so viel Gold wie lange nicht meh
 r\, China kauft gar zu Preisen über dem offiziellen Weltmarktpreis. Warum
  ist dies so? Welche „Probleme“ kann Gold lösen? Warum könnte es dur
 ch die BRICS zu einem extremen Wandel im Finanzsystem kommen? Ist dieses F
 inanzsystem wirklich am Ende und wenn es das ist\, kann Gold uns hiervor s
 chützen?\n\nFür uns Anleger stellen sich hierbei am Ende folgende Fragen
 :\n\n 	warum sollte man Edelmetalle in sein Depot werfen\, wenn diese doch
  gar keine Rendite abwerfen?\n 	in welche Edelmetalle sollte man investier
 en?\n 	in welcher Form sollte man in Edelmetalle investieren?\n 	gibt es Z
 yklen und saisonale Muster die wir nutzen können?\n 	ist es möglich auch
  Trading mit Edelmetallen zu betreiben und helfen uns hierbei die CoT-Date
 n?\n 	wie kann man Gold-Minen als „Edelmetallersatz“ nutzen und wie fi
 ndet man interessante Minen?\n\nMarco Freundl versucht an diesem Abend in 
 seinem Vortrag „Investieren in Edelmetalle“ auf diese und weitere span
 nende Fragen zur Anlage in Edelmetallen Antworten zu finden.\n\nEdelmetall
 e gehören in jedes Depot. Das wusste schon der französische Philosoph un
 d Schriftsteller Voltaire: „Papiergeld kehrt früher oder später zu sei
 nem inneren Wert zurück – Null.“\n\nIhr Referent:\n\nMarco Freundl\, 
 Dipl.-Betriebswirt (FH)\, Dipl.-Volkswirt (Univ.)\, schloss sein Betriebsw
 irtschaftsstudium mit Auszeichnung und Studium der VWL mit Note „Gut“ 
 ab. Sein Studien- und Interessensschwerpunkt lag auf dem Bereich Finance u
 nd Börsengeschichte. Seit geraumer Zeit ist er nun in diesem Bereich selb
 ständig tätig und verfügt mittlerweile über mehr als fünfzehn Jahre E
 rfahrung im Trading und Research. Seit 2007 publiziert Herr Freundl regelm
 äßig auf verschiedenen Finanz- und Rohstoffportalen und vertreibt über 
 www.bayerngold.com einen erfolgreichen Börsenbrief. Als Geschäftsführer
  von BayernGold verwaltet er eigene Wikifolios\, welche auf den Handelside
 en seiner Gesellschaft beruhen.\n\nDarüber hinaus ist er gerngesehener Fa
 chreferent auf Treffen der VTAD-Regionalgruppen und anderer privater Finan
 ztreffen. Auch wird von ihm ein eigener kostenloser Stammtisch veranstalte
 t\, welcher das Ziel der Aufklärung über Finanzmärkte verfolgt. Ferner 
 entwickelt er eigene Indikatoren\, die so nicht oder nur selten im Interne
 t zu finden sind und daher eine hohe Aussagekraft haben.
CATEGORIES:Nürnberg
LOCATION:eckstein haus der evang.-luth. kirche nürnberg
X-APPLE-STRUCTURED-LOCATION;VALUE=URI;X-ADDRESS=Burgstrasse 1-3\, Raum 4.01
 \, Nürnberg\, 90403\, Bayern\, Deutschland;X-APPLE-RADIUS=100;X-TITLE=eck
 stein haus der evang.-luth. kirche nürnberg:geo:0,0
END:VEVENT
BEGIN:VTIMEZONE
TZID:Europe/Berlin
X-LIC-LOCATION:Europe/Berlin
BEGIN:STANDARD
DTSTART:20231029T020000
TZOFFSETFROM:+0200
TZOFFSETTO:+0100
TZNAME:CET
END:STANDARD
END:VTIMEZONE
END:VCALENDAR