BEGIN:VCALENDAR
VERSION:2.0
PRODID:-//wp-events-plugin.com//7.2.3.1//EN
TZID:Europe/Berlin
X-WR-TIMEZONE:Europe/Berlin
BEGIN:VEVENT
UID:8@labor.vtad.de
DTSTART;TZID=Europe/Berlin:20180910T183000
DTEND;TZID=Europe/Berlin:20180910T183000
DTSTAMP:20180801T091320Z
URL:https://labor.vtad.de/rgt/die-trendtechnik/
SUMMARY:Die Trendtechnik
DESCRIPTION:Inhalt des Vortrages:\n\n\n	&nbsp\; Ablauf der Kursentwicklung\
 n	&nbsp\; Definition und Anwendung der Trendtechnik\n	&nbsp\; Systematik u
 nd Wirkungsweise ineinander verschachtelter Trends\n	&nbsp\; Die Bedeutung
  des Kursverlaufes\n	&nbsp\; Der trendtechnische Handelsvorteil\n	&nbsp\; 
 Das Kurskoordinatensystem\n	\n\n	Die Anwendung des Kurskoordinatensystems\
 n\n\n	&nbsp\; Die Trendtechnik in der Praxis:\n	\n\n	Das Basishandelsmodel
 l\n	trendtechnische Analysebesprechung (im LiveChart)\n	trendtechnische Ha
 ndelsvorbereitung gemäß Basishandelsmodell (im LiveChart)\n\n\n	&nbsp\; 
 Fazit und Schlusswort\n\n\nDie Referenten\, Doris und Steffen Richter\, be
 fassen sich seit 2009 sehr intensiv und ausschließlich mit dem Großthema
  privater Börsenhandel. Sie sind seit 2013 durch vorwiegend autodidaktisc
 hes lernen profitabel und haben im weiteren ihre Profitabilitätsstufe gem
 äß eigener Lernkurve verbessern können. Auf Grundlage verschiedener Fac
 hliteratur und eigener praktischer Erfahrungen haben Doris und Steffen die
  Trendtechnik definiert und beschrieben. Sie haben als Bestandteile der Tr
 endtechnik die Trendgesetze schriftlich fixiert\, das Kurskoordinatensyste
 m erarbeitet und ein&nbsp\; Kurswertesystem erstellt. Sie betreiben das We
 bprojekt&nbsp\;https://www.trader-24.info&nbsp\;und seit 2016 geben sie ih
 r Wissen unter anderen in einem 9-monatigen Lernprogramm (Trader-Intensiv-
 Training) weiter. Das primäre Ziel dabei ist das erreichen dauerhafter (l
 ebenslanger) Profitabilität der Teilnehmer im privaten Trading.
CATEGORIES:Freiburg
LOCATION:InterCityHotel Freiburg
X-APPLE-STRUCTURED-LOCATION;VALUE=URI;X-ADDRESS=Bismarckallee 3\, Freiburg\
 , 79098 \, Deutschland;X-APPLE-RADIUS=100;X-TITLE=InterCityHotel Freiburg:
 geo:0,0
END:VEVENT
BEGIN:VTIMEZONE
TZID:Europe/Berlin
X-LIC-LOCATION:Europe/Berlin
BEGIN:DAYLIGHT
DTSTART:20180325T030000
TZOFFSETFROM:+0100
TZOFFSETTO:+0200
TZNAME:CEST
END:DAYLIGHT
END:VTIMEZONE
END:VCALENDAR