BEGIN:VCALENDAR
VERSION:2.0
PRODID:-//wp-events-plugin.com//7.2.3.1//EN
TZID:Europe/Berlin
X-WR-TIMEZONE:Europe/Berlin
BEGIN:VEVENT
UID:650@labor.vtad.de
DTSTART;TZID=Europe/Berlin:20230612T183000
DTEND;TZID=Europe/Berlin:20230612T203000
DTSTAMP:20230118T125830Z
URL:https://labor.vtad.de/rgt/die-jahreszeiten-des-kondratjew-zyklus-stand
 ortbestimmung-und-ausblick-2/
SUMMARY:Die Jahreszeiten des Kondratjew-Zyklus: Standortbestimmung und Ausb
 lick
DESCRIPTION:Der Kondratjew-Zyklus\, benannt nach dem russischen Wirtschafts
 wissenschaftler Nikolai Dmitrijewitsch Kondratjew (1892 – 1938)\, bezeic
 hnet einen langen Wirtschaftszyklus mit einer Wellenlänge von ca. 50-60 J
 ahre. Diese Zyklen verband der Ökonom Joseph Schumpeter jeweils mit einer
  Basisinnovation (z.B. Dampfmaschine\, Eisenbahn\, Elektrifizierung) was z
 ur Popularität des Kondratjew-Zyklus beigetragen hat. Jeder dieser Zyklen
  hat jedoch auch eine innere Struktur\, die Ian Gordon aufgezeigt hat. Er 
 prägte damit die Jahreszeiten im Kondratjew-Zyklus und in jeder Jahreszei
 t gilt es\, die richtigen Asset-Klassen zu allokieren. Im ersten Teil des 
 Vortrags wird diese allgemeine Struktur vorgestellt und der aktuelle Stand
 ort im Kondratjew-Zyklus identifiziert.\n\n&nbsp\;\n\nEine reine Betrachtu
 ng auf einen so langen Zyklus allein wird vermutlich nicht jeden überzeug
 en. Daher werden unabhängig vom Kondratjew-Zyklus demographische Trends u
 nd geopolitische Entwicklungen betrachtet. Diese unterstützen und bestät
 igen die Erkenntnisse und Prognosen aus dem ersten Teil des Vortrags.\n\n&
 nbsp\;\n\nEine Quintessenz aus den beiden Betrachtungen lautet\, dass Rohs
 toffe auf längere Sicht in diesem Umfeld zu favorisieren sind. Daher wird
  zur Abrundung des Vortrages auf die fundamentale Situation verschiedener 
 Rohstoffe eingegangen und deren aktuelle charttechnische Lage betrachtet.\
 n\n&nbsp\;\n\nReferent: \n\n\n\n\nDr. Oliver Reiß\, CFTe\, MFTA\nDr. Oli
 ver Reiß ist freiberuflicher Unternehmensberater für die Finanzindustrie
  mit Schwerpunkt auf Risikocontrolling\, quantitative Analyse und zugehör
 iger IT-Umsetzungen. Seine Forschungsarbeiten auf dem Gebiet der Technisch
 en Analyse basieren auf der Übertragung mathematischer Techniken auf Fina
 nzzeitreihen und die Entwicklung darauf basierender Handelssysteme. Seine 
 Untersuchungen zur Empirical Mode Decomposition wurden von der IFTA mit de
 m John Brooks Memorial Award ausgezeichnet.\n\n\n\n&nbsp\;\n\nRegelung fü
 r Gäste und Interessierte:\nSchnuppern ist mit vorheriger Anmeldung koste
 nfrei und erst ab der zweiten Teilnahme werden 30 Euro Kostenbeteiligung b
 erechnet. Die Gäste werden gebeten sich beim Regionalmanager per Email un
 ter rm.freiburg@vtad.de anzumelden\,  da die Plätze beschränkt sind! De
 r Mitgliedsbeitrag als „Persönliches Mitglied“ beträgt 120 Euro für
  ein Jahr. Für Mitglieder ist der Besuch aller regionalen Veranstaltungen
  in allen Regionalgruppen kostenfrei.\n\n \n\nVeranstaltungsort:\n\nInter
 cityHotel Freiburg\, Bismarckallee 3\, 79098 Freiburg.\nDirekt beim Hauptb
 ahnhof Freiburg. Parken in der Bahnhofsgarage.\n\n 
CATEGORIES:Freiburg
LOCATION:InterCityHotel Freiburg
X-APPLE-STRUCTURED-LOCATION;VALUE=URI;X-ADDRESS=Bismarckallee 3\, Freiburg\
 , 79098 \, Deutschland;X-APPLE-RADIUS=100;X-TITLE=InterCityHotel Freiburg:
 geo:0,0
END:VEVENT
BEGIN:VTIMEZONE
TZID:Europe/Berlin
X-LIC-LOCATION:Europe/Berlin
BEGIN:DAYLIGHT
DTSTART:20230326T030000
TZOFFSETFROM:+0100
TZOFFSETTO:+0200
TZNAME:CEST
END:DAYLIGHT
END:VTIMEZONE
END:VCALENDAR