BEGIN:VCALENDAR
VERSION:2.0
PRODID:-//wp-events-plugin.com//7.2.3.1//EN
TZID:Europe/Berlin
X-WR-TIMEZONE:Europe/Berlin
BEGIN:VEVENT
UID:114@labor.vtad.de
DTSTART;TZID=Europe/Berlin:20190117T183000
DTEND;TZID=Europe/Berlin:20190117T210000
DTSTAMP:20190121T203134Z
URL:https://labor.vtad.de/rgt/die-expander-strategie-mit-candlesticks-und-
 bollinger-baendern-zum-tradingerfolg/
SUMMARY:Die Expander-Strategie – Mit Candlesticks und Bollinger-Bändern 
 zum Tradingerfolg
DESCRIPTION:Wieland Arlt legt für seine Trading-Setups auf drei Kriterien 
 Wert: Eine hohe Eintrittswahrscheinlichkeit\, eine lange Wegstrecke zum an
 visierten Ziel und eine eindeutige Botschaft\, wenn der Markt es sich ande
 rs überlegt hat. Diese Kriterien verbinden sich in der Expander-Strategie
 .\n\nDipl.-Volkswirt Wieland Arlt ist CFTe®\, aktiver Trader sowie zertif
 izierter Coach und Trainer. Er blickt auf mehr als zehn Jahre Erfahrung im
  Trading zurück und hat in dieser Zeit wertvolle Erfahrungen in den Finan
 zmärkten sammeln können.\n\nSeine zahlreichen Artikel zum Thema Trading 
 finden im In- und Ausland eine breite Leserschaft. Auf Fachmessen ist er e
 in gefragter Redner und fachkundiger Gesprächspartner. Im VTAD e.V. hat e
 r die Funktion des Regionalmanagers Hamburg übernommen.\n\nDas Buch von W
 ieland Arlt »Risiko- und Money-Management – Simplified« ist mit Ersche
 inen im FinanzBuchVerlag ein Bestseller der Börsenliteratur. Der Nachfolg
 er »55 Gründe\, Trader zu werden« beleuchtet das Thema Börse und Tradi
 ng aus vielen interessanten Perspektiven und stellt die Verbindung zwische
 n Trading und anderen Berufen her.\n\nAls aktiver Trader\, Coach und Train
 er ist ihm in der Trader-Ausbildung die Vermittlung von einfach verständl
 ichen und damit auch leicht umsetzbaren Handelsansätzen wichtig. Gerade d
 ie Berücksichtigung der individuellen Voraussetzungen eines jeden Traders
  nimmt in seinen Ausbildungen einen großen Stellenwert ein.\n\nIn seiner 
 »TORERO TRADERS SCHOOL« kombiniert Wieland Arlt auf einzigartige Weise b
 ewährte Trading-Konzepte und erlebtes Praxiswissen mit seinen Erfahrungen
  als Management-Trainer.\n\nSein erklärtes Ziel in allen Ausbildungen ist
  es\, Trader dabei zu unterstützen\, ihre finanziellen Ziele selbstbestim
 mt zu erreichen und nachhaltig erfolgreich an den Finanzmärkten zu handel
 n.\n\n&nbsp\;\n\nVortragsunterlagen\n\nTTS_Expander_Strategie_VTAD_2019
CATEGORIES:Nürnberg
LOCATION:Technische Hochschule Nürnberg
X-APPLE-STRUCTURED-LOCATION;VALUE=URI;X-ADDRESS=Keßlerplatz 12\, Nürnberg
 \, 90489\, Deutschland;X-APPLE-RADIUS=100;X-TITLE=Technische Hochschule N
 ürnberg:geo:0,0
END:VEVENT
BEGIN:VTIMEZONE
TZID:Europe/Berlin
X-LIC-LOCATION:Europe/Berlin
BEGIN:STANDARD
DTSTART:20181028T020000
TZOFFSETFROM:+0200
TZOFFSETTO:+0100
TZNAME:CET
END:STANDARD
END:VTIMEZONE
END:VCALENDAR