BEGIN:VCALENDAR
VERSION:2.0
PRODID:-//wp-events-plugin.com//7.2.3.1//EN
TZID:Europe/Berlin
X-WR-TIMEZONE:Europe/Berlin
BEGIN:VEVENT
UID:507@labor.vtad.de
DTSTART;TZID=Europe/Berlin:20220623T183000
DTEND;TZID=Europe/Berlin:20220623T210000
DTSTAMP:20220718T151308Z
URL:https://labor.vtad.de/rgt/die-boersenbullen-kommen-zunaechst-der-forex
 bull-im-detail/
SUMMARY:Die Börsenbullen kommen – zunächst der ForexBull im Detail
DESCRIPTION:Vortragsunterlagen: [members_logged_in] 2022-FXBull Juni Nürnb
 erg [/members_logged_in]\n\nWie im Magazin der VTAD-Frühjahresausgabe sch
 on dargestellt\, liefert der ForexBull den buchstäblichen Einblick in die
  Kristallkugel des Tages. Dieses Handelssignal-Tool\, welches nicht nur sp
 eziell für den Forex-Markt seine Verwendung findet\, sondern gleichwohl i
 m Index-\, Krypto- und Rohstoff-Segment genutzt werden kann\, vollzieht ei
 ne tagesaktuelle (Intraday) Vorfilterung der vielversprechendsten Signale 
 im Rahmen einer speziellen Analyse der historischen Entwicklung. Erhalte s
 pannende Einblicke zum ForexBull und erfahre\, neben den Tools zur Saisona
 lität oder bspw. der Wochentagsstärke\, mehr über den eigens entwickelt
 en Screener wie auch den Expert-Advisor (EA). Der abschließende Blick auf
  saisonal interessante Swing-Trading-Chancen darf natürlich nicht fehlen.
 \n\nDer Referent:\n\n\nAls Betriebswirt in Finanzwirtschaft und Certified 
 Financial Technician II (CFTe)\, ist Christian Kämmerer seit zwei Jahrz
 ehnten im Bereich der Technischen Analyse und des Tradings tätig. 2008 gr
 ündete er den Webdienst TA4YOU und widmet sich\, neben der charttechnisch
 en Auswertung für diverse Internetportale\, im Schwerpunkt dem aktiven De
 visenhandel.\n\nSeit Juni 2013 vertiefte sich seine Verbindung zur Broker-
 Branche. Dabei ergänzte er sein bestehendes Tätigkeitsfeld um die Funkti
 on des „Head of Research &amp\; Analysis Germany“ bei JFD. Mit Beginn 
 des Jahres 2016 erweiterte sich sein Verantwortungsbereich durch die neue 
 Funktion des „Head of German Speaking Markets“. Speziell als Tied Agen
 t etablierte er in den nachfolgenden Jahren die Vormachtstellung von JFD i
 m D-A-CH-Raum.\n\nMit der seit 2021 erfolgten Wiederaufnahme des Rainbow-T
 radings und dem anvisierten Start des Duos „boersenbullen“\, im Kontex
 t diverser Asset-Klassen\, ist es sein Ziel\, die Mystik rund um die Finan
 zmärkte und des Tradings für jeden greifbar zu machen.\n\nBitte beachten
  Sie:\n\n 	Teilnahme für Gäste (Nicht-Mitglieder) nur nach vorheriger An
 meldung per Mail an: rm.nuernberg@vtad.de\n 	Einlass ab 17:45h\, ab 18:30h
  ist kein Einlass mehr möglich\, wir bitten um pünktliches Erscheinen!\n
 \n&nbsp\;\n\n
CATEGORIES:Nürnberg
LOCATION:eckstein haus der evang.-luth. kirche nürnberg
X-APPLE-STRUCTURED-LOCATION;VALUE=URI;X-ADDRESS=Burgstrasse 1-3\, Raum 1.01
 \, Nürnberg\, 90403 \, Bayern\, Deutschland;X-APPLE-RADIUS=100;X-TITLE=ec
 kstein haus der evang.-luth. kirche nürnberg:geo:0,0
END:VEVENT
BEGIN:VTIMEZONE
TZID:Europe/Berlin
X-LIC-LOCATION:Europe/Berlin
BEGIN:DAYLIGHT
DTSTART:20220327T030000
TZOFFSETFROM:+0100
TZOFFSETTO:+0200
TZNAME:CEST
END:DAYLIGHT
END:VTIMEZONE
END:VCALENDAR