BEGIN:VCALENDAR
VERSION:2.0
PRODID:-//wp-events-plugin.com//7.2.3.1//EN
TZID:Europe/Berlin
X-WR-TIMEZONE:Europe/Berlin
BEGIN:VEVENT
UID:997@labor.vtad.de
DTSTART;TZID=Europe/Berlin:20250512T183000
DTEND;TZID=Europe/Berlin:20250512T210000
DTSTAMP:20250508T073929Z
URL:https://labor.vtad.de/rgt/der-grosse-bullenmarkt-von-2024-2030/
SUMMARY:Der grosse Bullenmarkt von 2024 - 2030!
DESCRIPTION:Der große Bullenmarkt von 2024 - 2030.\nS&amp\;P 500 Kursziel 
 : 15.000\nDAX Kursziel : 50.000\n\nDas „Marktphasen Modell nach Rabin“
  berücksichtigt 129 Jahren Börsengeschichte.\nHerr Rabin hat nach langj
 ährigen Untersuchungen des Aktienmarkts eine Struktur entdeckt\, die seit
 \n1942 besteht und weiterhin aktiv ist.\nDas Marktphasen Modell nach Rabin
  beantwortet folgende Fragen:\n- Wie kommt diese Kursprognose zustande?\n-
  Kann mal große Bullenmärkte vorhersehen?\n- Existieren Umstände\, die 
 einen Bullenmarkt begünstigen?\n- Welche Rolle spielt die Massenpsycholog
 ie in einem Bullenmarkt?\n- Sind 300% Rendite zu viel? Welche Ergebnisse h
 aben vergangene Bullenmärkte erbracht?\n- Wieso behindert die Fundamental
 analyse Anleger vom Bullenmarkt zu profitieren?\n- Welche Dynamik wird das
  Durchschnitts-KGV innerhalb des Bullenmarktes haben?\n- Ist die Dotcom Bl
 ase mit dem aktuellen Bullenmarkt vergleichbar?\n- Welche Vorteile bietet 
 die Chartanalyse in diesem Bullenmarkt?\n\nFilip Rabin blickt auf 29 Jahre
 n Börsenerfahrung zurück. Geweckt wurde sein Interesse an der\nBörse du
 rch die Telekom Emission im Jahre 1996. Seitdem beobachtet er täglich die
  Finanzdaten\nund die Reaktion der Börse. Diese Faszination für die Bör
 se hat ihn alle Börsenphasen\, von der\nDotcom Blase bis zum aktuellen Bu
 llenmarkt\, miterleben lassen. Er hat als Broker für derivative\nFinanzin
 strumente gearbeitet. Als Software-Entwickler hat er eine Vielzahl von Bö
 rsenstudien in\nForm von Java Programmen implementiert. Seine Erkenntnisse
  aus 29 Jahren Börsenbeobachtung\nund die Schlussfolgerungen aus seinen J
 ava Programmen führten zu dem „Marktphasen Modell\nnach Rabin“.
ATTACH;FMTTYPE=image/jpeg:https://labor.vtad.de/wp-content/uploads/2025/02
 /Rabin_VTAD_Berlin.jpg
CATEGORIES:Freiburg
LOCATION:Novotel Freiburg am Konzerthaus Hotel
X-APPLE-STRUCTURED-LOCATION;VALUE=URI;X-ADDRESS= Konrad Adenauer Platz 2\, 
 Freiburg im Breisgau\, 79098\, Deutschland;X-APPLE-RADIUS=100;X-TITLE=Novo
 tel Freiburg am Konzerthaus Hotel:geo:0,0
END:VEVENT
BEGIN:VTIMEZONE
TZID:Europe/Berlin
X-LIC-LOCATION:Europe/Berlin
BEGIN:DAYLIGHT
DTSTART:20250330T030000
TZOFFSETFROM:+0100
TZOFFSETTO:+0200
TZNAME:CEST
END:DAYLIGHT
END:VTIMEZONE
END:VCALENDAR