BEGIN:VCALENDAR
VERSION:2.0
PRODID:-//wp-events-plugin.com//7.2.3.1//EN
TZID:Europe/Berlin
X-WR-TIMEZONE:Europe/Berlin
BEGIN:VEVENT
UID:57@labor.vtad.de
DTSTART;TZID=Europe/Berlin:20190110T183000
DTEND;TZID=Europe/Berlin:20190110T183000
DTSTAMP:20180925T121653Z
URL:https://labor.vtad.de/rgt/das-ivy-portfolio-eine-klassische-top-down-s
 elektion-in-zwei-stufen-2/
SUMMARY:Das IVY-Portfolio - Eine klassische Top-Down Selektion in zwei Stuf
 en
DESCRIPTION:\nInhalt des Vortrags in Stichworten:\nA. Theorie\nStufe 1: Mar
 ktauswahl aus fünf Marktgruppen: Aktien USA\, Aktien Welt ohne USA\, Rohs
 toffe\, Immobilien\, Anleihen. In Anlehnung an das Buch von Meb Faber "The
  IVY Portfolio".\nStufe 2: Aktienselektion durch Momentum. Eine komplette 
 Handelsanweisung in Anlehnung an das Buch von Andreas Clenow "Stocks on th
 e Move".\nB. Praxis: Umsetzung mit der Börsensoftware TaiPan.\nC. Ergebni
 sse: Backtests mit der Software Amibroker. Transparentes Musterdepot "Wiki
 folio".\n\n\nZur Person:\nDer Referent handelt seit knapp 25 Jahren Aktien
  und seit über 20 Jahren Futures.\nEr hat früh damit begonnen\, seine Ha
 ndelskonzepte zu programmieren und zu testen\, denn Reproduzierbarkeit und
  Überprüfbarkeit sind existenziell bei der Entwicklung von mechanischen 
 Handelssystemen.\nUrban Jäkle war auf dem Parkett der Chicago Mercantile 
 Exchange tätig und hat jahrelang institutionelles Geld mit Daytrading-Han
 delssystemen auf Futures verwaltet. Aus dieser Arbeit sind einige Artikel 
 im Traders und das Buch „Trading Systems“ (Harriman House\, Hampshire\
 , UK\, 2009) entstanden.\n\nSeine jüngste Arbeiten sind langsamere End Of
  Day Handelssysteme an den Aktienmärkten. Wie bei den schnellen und hoch 
 gehebelten Futures arbeiten seine Strategien auf Aktien aber ebenso nach n
 achvollziehbaren Regeln. Vorbild für seine aktuelle Strategie ist das sog
 . "IVY-Portfolio"\, mit dem die Stiftungen der Elite-Universitäten Harvar
 d und Yale seit den 70er Jahren regelmässig zweistellige Renditen mit kau
 m nennenswerten Rückgängen erzielen.\n\nJäkle hat diesen von Meb Faber 
 beschriebenen Ansatz zusammen mit der Momentumstrategie des Fonds-Managers
  Andreas Clenow eng angelehnt an die Literatur in einem klassischen Top-Do
 wn-System umgesetzt. Dieses ist auch für Sie mittlerweile mit kommerziell
 er Software umsetzbar. (In der Variante für Einsteiger mit der Software T
 aiPan von Lenz und Partner oder für Fortgeschrittene\, die auch Backtests
  machen wollen\, mit der Software Amibroker).\nZudem gibt es zur Strategie
  inzwischen auch ein transparentes Musterportfolio\, ein sog. Wikifolio\, 
 wo Sie jeden einzelnen Trade und die Performance nach verfolgen können. D
 as Musterportfolio ist als Zertifikat über Lang und Schwarz emittiert und
  an der Börse (ähnlich wie ein Fonds) handelbar.\n\nWeitere Infos auf de
 r Webseite www.urban-stocks.com\n
CATEGORIES:Stuttgart
LOCATION:Haus der Wirtschaft
X-APPLE-STRUCTURED-LOCATION;VALUE=URI;X-ADDRESS= Willi-Bleicher-Straße 19\
 , Stuttgart\, 71174\, Deutschland;X-APPLE-RADIUS=100;X-TITLE=Haus der Wirt
 schaft:geo:0,0
END:VEVENT
BEGIN:VTIMEZONE
TZID:Europe/Berlin
X-LIC-LOCATION:Europe/Berlin
BEGIN:STANDARD
DTSTART:20181028T020000
TZOFFSETFROM:+0200
TZOFFSETTO:+0100
TZNAME:CET
END:STANDARD
END:VTIMEZONE
END:VCALENDAR