BEGIN:VCALENDAR
VERSION:2.0
PRODID:-//wp-events-plugin.com//7.2.3.1//EN
TZID:Europe/Berlin
X-WR-TIMEZONE:Europe/Berlin
BEGIN:VEVENT
UID:105@labor.vtad.de
DTSTART;TZID=Europe/Berlin:20190214T183000
DTEND;TZID=Europe/Berlin:20190214T183000
DTSTAMP:20181209T171340Z
URL:https://labor.vtad.de/rgt/cot-daten/
SUMMARY:CoT Daten lesen und verstehen
DESCRIPTION:COT Daten lesen und verstehen \n\nDie COT (Commitments of Trade
 rs) Daten liefern wöchentlich einen detaillierten Einblick in die tatsäc
 hlichen Positionen der Big Player im Markt. Hier erkennen Sie wo Trends en
 tstehen und wie stabil diese sind. Martin wird Ihnen zeigen\, wie Sie dies
 e Daten zur frühzeitigen Erkennung von Trendwechseln verwenden können un
 d wie Sie Positionen aufgrund dieser Daten eröffnen. Dieser Tradingansatz
  eignet sich hervorragend auch für alle Trader\, die einen Hauptberuf hab
 en und nicht viel Zeit für ihr Trading aufbringen können. Lernen Sie in 
 diesem Vortrag die Grundlagen der Interpretation der COT Daten und deren A
 nwendung.\n\nÜber Martin Goersch\n\nMartin Goersch ist bereits seit 2003 
 an den internationalen Börsen als Händler aktiv. Nach seinem Wirtschafts
 - und Sinologie-Studium widmete er sich komplett den Finanzmärkten. Seit 
 2009 hat er sich zudem einen sehr guten Ruf als Mentor in der Aus- und Wei
 terbildung von erfolgreichen Tradern erarbeitet. Sein umfangreiches Wissen
  stellt er seit 2011 mit seinem eigenen Unternehmen Daytrading Coach in Co
 achings und Seminaren einer ambitionierten Kundenschicht zur Verfügung. Z
 usätzlich verwaltet Martin Goersch als Head-of-Trading einer Schweizer Ve
 rmögensverwaltung einen Managed Account im Bereich Rohstoff Futures und a
 nalysiert für das Fintech Startup nextmarkets GmbH regelmäßig vorteilha
 fte Aktientrades. Seine Spezialisierung reicht vom kurzfristigen Handel vo
 n Index- und Anleihe-Futures über Swingtrading in Rohstoff-Futures unter 
 Berücksichtigung von COT-Daten und Saisonalitäten bis hin zum mittel- un
 d langfristigen Investment im Aktienbereich. Weitere Informationen und wer
 tvolle Video-Inhalte finden Sie auf seiner Webseite www.daytradingcoach.de
 /\n\nKontakt: info@daytradingcoach.de
CATEGORIES:Stuttgart
LOCATION:Haus der Wirtschaft
X-APPLE-STRUCTURED-LOCATION;VALUE=URI;X-ADDRESS= Willi-Bleicher-Straße 19\
 , Stuttgart\, 71174\, Deutschland;X-APPLE-RADIUS=100;X-TITLE=Haus der Wirt
 schaft:geo:0,0
END:VEVENT
BEGIN:VTIMEZONE
TZID:Europe/Berlin
X-LIC-LOCATION:Europe/Berlin
BEGIN:STANDARD
DTSTART:20181028T020000
TZOFFSETFROM:+0200
TZOFFSETTO:+0100
TZNAME:CET
END:STANDARD
END:VTIMEZONE
END:VCALENDAR