BEGIN:VCALENDAR
VERSION:2.0
PRODID:-//wp-events-plugin.com//7.2.3.1//EN
TZID:Europe/Berlin
X-WR-TIMEZONE:Europe/Berlin
BEGIN:VEVENT
UID:1002@labor.vtad.de
DTSTART;TZID=Europe/Berlin:20250612T183000
DTEND;TZID=Europe/Berlin:20250612T204500
DTSTAMP:20250313T204055Z
URL:https://labor.vtad.de/rgt/cot-daten-kombiniert-mit-ta-und-moneymanagem
 ent/
SUMMARY:Profitables Rohstoff- und Futures Trading nach COT Daten
DESCRIPTION:COT-Daten sind ein Evergreen\, aber wie trade ich sie erfolgrei
 ch? Max Schulz ist seit 2014 professioneller Rohstoff- und Futurestrader u
 nd hat sein Tradingkonto in 10 Jahren von 14.000 $ auf 1\,5 Millionen $ ge
 steigert. Er ist mehrfacher Preisträger des renommierten World Cup Champi
 onship of Futures Trading und hat er seine Trading-Expertise damit eindruc
 ksvoll bewiesen.\n\nSein Handelsansatz basiert auf der Analyse von COT-Dat
 en. Seit 2017 verfolgt er eine beispiellose Transparenz\, indem er alle Tr
 ades im Voraus ankündigt\, um echtes Trading zu demonstrieren und Vertrau
 en zu schaffen.\n\nNeben seiner Trading Karriere hält er Seminare\, schre
 ibt Fachartikel über Rohstoff- und Futurestrading und bildet angehende Tr
 ader aus\, um ihnen zu eigenen Erfolgen zu verhelfen.
CATEGORIES:Düsseldorf
END:VEVENT
BEGIN:VTIMEZONE
TZID:Europe/Berlin
X-LIC-LOCATION:Europe/Berlin
BEGIN:DAYLIGHT
DTSTART:20250330T030000
TZOFFSETFROM:+0100
TZOFFSETTO:+0200
TZNAME:CEST
END:DAYLIGHT
END:VTIMEZONE
END:VCALENDAR