BEGIN:VCALENDAR
VERSION:2.0
PRODID:-//wp-events-plugin.com//7.2.3.1//EN
TZID:Europe/Berlin
X-WR-TIMEZONE:Europe/Berlin
BEGIN:VEVENT
UID:3@labor.vtad.de
DTSTART;TZID=Europe/Berlin:20181108T183000
DTEND;TZID=Europe/Berlin:20181108T183000
DTSTAMP:20180831T104334Z
URL:https://labor.vtad.de/rgt/bollingerbaender-und-besprechung-von-hebelpr
 odukten/
SUMMARY:Bollingerbänder und Besprechung von Hebelprodukten
DESCRIPTION:\n\n\nBollinger Bänder...oft missverstanden. Eine sehr gute Zu
 tat zu dem Potpourri der allgemein bekannten Indikatoren. Freuen Sie sich 
 auf ein Trendfolgemodell mit erstaunlichen Aussagen.\n\nSeit über 30 Jahr
 en betreibt Christian Schlegel professionellen Börsenhandel.Seine Trading
 -Karriere begann Christian Schlegel als Angestellter eines Börsenmaklers 
 mit Schwerpunkt Derivate. Danach war er selbstständiger Freimakler an der
  Frankfurter Wertpapierbörse. Während dieser Zeit war er unter anderem a
 ls Market Maker in diversen Bluechips tätig und verfügt deshalb auch üb
 er weitreichende Kenntnisse in Optionen aller Art.\n\nSeine Ausbildung zum
  Börsenmakler mit Schwerpunkt Derivate erfolgte zwischen 1987 und 1994. I
 n dieser Zeit war er ebenfalls als Market Maker an der EUREX unterwegs.\n\
 nZwischen 1994 und 2003 war Christian Schlegel als Geschäftsführender Ge
 sellschafter der rbs Effectenhandels GmbH\, Frankfurt mit Maklerlizenz fü
 r die Frankfurter Wertpapierbörse tätig und angeschlossenes NCM-XETRA Mi
 tglied.\n\nSeit 2003 ist er Privatier\, handelt aber weiterhin täglich. B
 eginnend in 2010 hat er heute bereits über einhundert Webinare für Börs
 enblogs abgehalten. Seit 2013 gibt er außerdem Seminare für die Capital 
 Markets Academy der Deutschen Börse AG Frankfurt.\n\nWeitere Informatione
 n finden Sie unter https://www.schlegel-trading.com/thats-me\n\n 	Fachpub
 likationen des Referenten:\n 	Verschiedene Publikationen in der Derivate F
 achpresse\n 	Mitarbeit bei zwei Büchern von Hans A. Bernecker\n 	Eines de
 r ersten Bücher der technischen Analyse in deutscher Sprache: „Der Schl
 üssel zu den Börsen“ (zusammen mit Werner Pelz\, 1990)\n 	Tägliche Ma
 rktberichte der Optionsbörse für das Handelsblatt und die Börsenzeitung
  (bis 1994)\n\n\n
CATEGORIES:Stuttgart
LOCATION:Haus der Wirtschaft
X-APPLE-STRUCTURED-LOCATION;VALUE=URI;X-ADDRESS= Willi-Bleicher-Straße 19\
 , Stuttgart\, 71174\, Deutschland;X-APPLE-RADIUS=100;X-TITLE=Haus der Wirt
 schaft:geo:0,0
END:VEVENT
BEGIN:VTIMEZONE
TZID:Europe/Berlin
X-LIC-LOCATION:Europe/Berlin
BEGIN:STANDARD
DTSTART:20181028T020000
TZOFFSETFROM:+0200
TZOFFSETTO:+0100
TZNAME:CET
END:STANDARD
END:VTIMEZONE
END:VCALENDAR