BEGIN:VCALENDAR
VERSION:2.0
PRODID:-//wp-events-plugin.com//7.2.3.1//EN
TZID:Europe/Berlin
X-WR-TIMEZONE:Europe/Berlin
BEGIN:VEVENT
UID:1154@labor.vtad.de
DTSTART;TZID=Europe/Berlin:20260309T183000
DTEND;TZID=Europe/Berlin:20260309T203000
DTSTAMP:20260123T073700Z
URL:https://labor.vtad.de/rgt/anlagepolitische-grosswetterlage-3/
SUMMARY:Anlagepolitische Großwetterlage
DESCRIPTION:„Anlagepolitische Großwetterlage“\nAgenda:\n\n\n 	Finanzm
 ärkte im Rückblick 2025 &amp\; Ausblicke auf 2026\n 	Welche Anlagestrate
 gien profitieren und welche versagen in Inflationszeiten?\n 	Chancen der k
 ommenden Jahre: Strategien &amp\; Märkte\n\nIhr Referent:\n\nDaniel Haase
 \, Jahrgang 1976\, ist Asset Manager und Finanzmarktanalyst.\n\nDas von ih
 m entwickelte Trendfolge-Modell wurde im Frühjahr 2009 von der\nVereinig
 ung Technischer Analysten Deutschlands mit dem VTAD Award\n(3.Pl.) ausgez
 eichnet. Seine Untersuchungen zu quantitativen Methoden der\nAktienselekt
 ion wurden 2019 mit dem VTAD Award (1. Pl.) ausgezeichnet.\n\nVon 2010 bis
  2017 leitete er ehrenamtlich die VTAD-Regionalgruppe Hamburg.\n\nSeine Fi
 nanzmarktanalysen werden monatlich im Empiria-Brief  veröffentlicht.\n 
ATTACH;FMTTYPE=image/jpeg:https://labor.vtad.de/wp-content/uploads/2026/01
 /WhatsApp-Image-2026-01-22-at-15.23.53.jpeg
CATEGORIES:Freiburg
LOCATION:Schaltwerk @JobRad
X-APPLE-STRUCTURED-LOCATION;VALUE=URI;X-ADDRESS=Heinrich-von-Stephan-Str. 1
 3\, 79100 Freiburg im Breisgau\, Deutschland;X-APPLE-RADIUS=100;X-TITLE=Sc
 haltwerk @JobRad:geo:0,0
END:VEVENT
BEGIN:VTIMEZONE
TZID:Europe/Berlin
X-LIC-LOCATION:Europe/Berlin
BEGIN:STANDARD
DTSTART:20251026T020000
TZOFFSETFROM:+0200
TZOFFSETTO:+0100
TZNAME:CET
END:STANDARD
END:VTIMEZONE
END:VCALENDAR