BEGIN:VCALENDAR
VERSION:2.0
PRODID:-//wp-events-plugin.com//7.2.3.1//EN
TZID:Europe/Berlin
X-WR-TIMEZONE:Europe/Berlin
BEGIN:VEVENT
UID:1015@labor.vtad.de
DTSTART;TZID=Europe/Berlin:20250414T183000
DTEND;TZID=Europe/Berlin:20250414T210000
DTSTAMP:20250326T200847Z
URL:https://labor.vtad.de/rgt/analysetechnik-mit-kerzencharts/
SUMMARY:Analysetechnik mit Kerzencharts
DESCRIPTION:Vortragsinhalt:\nDie japanische Analysetechnik mit dem Kerzench
 art ist eine effiziente Methode um die Stimmung an den Märkten einzuschä
 tzen und entsprechende Voraussagen über zukünftige Kursentwicklungen zu 
 treffen. Der Referent geht auf die Grundlagen dieser Technik sowie die wic
 htigsten Chartmuster ein. Ein Blick auf statistische Studien zur Trefferqu
 ote und Wirksamkeit der Chartmuster gibt interessante Impulse. Der Referen
 t wird im Vortrag auf Kerzensignale für den nächsten Handelstag eingehen
 .\n\nReferent:\nManfred Schwendemann ist zertifizierter Technischer Analys
 t (CFTe) und handelt seit 1996 an der Börse – heute bevorzugt im mittel
 fristigen Zeit Horizont auf EOD-Basis . Er war mehrere Jahre Vorstandsmitg
 lied bei der VTAD und gründete die Regionalgruppe in Freiburg.
ATTACH;FMTTYPE=image/jpeg:https://labor.vtad.de/wp-content/uploads/2025/03
 /manfred_schwendemann2018-e1540909377403-259x300-1.jpg
CATEGORIES:Freiburg
LOCATION:Novotel Freiburg am Konzerthaus Hotel
X-APPLE-STRUCTURED-LOCATION;VALUE=URI;X-ADDRESS= Konrad Adenauer Platz 2\, 
 Freiburg im Breisgau\, 79098\, Deutschland;X-APPLE-RADIUS=100;X-TITLE=Novo
 tel Freiburg am Konzerthaus Hotel:geo:0,0
END:VEVENT
BEGIN:VTIMEZONE
TZID:Europe/Berlin
X-LIC-LOCATION:Europe/Berlin
BEGIN:DAYLIGHT
DTSTART:20250330T030000
TZOFFSETFROM:+0100
TZOFFSETTO:+0200
TZNAME:CEST
END:DAYLIGHT
END:VTIMEZONE
END:VCALENDAR