BEGIN:VCALENDAR
VERSION:2.0
PRODID:-//wp-events-plugin.com//7.2.3.1//EN
TZID:Europe/Berlin
X-WR-TIMEZONE:Europe/Berlin
BEGIN:VEVENT
UID:308@labor.vtad.de
DTSTART;TZID=Europe/Berlin:20200514T183000
DTEND;TZID=Europe/Berlin:20200514T210000
DTSTAMP:20200501T114316Z
URL:https://labor.vtad.de/rgt/achtung-webinar-realistische-renditen-im-tra
 ding-und-die-werkzeuge-eines-daytraders/
SUMMARY:+++ ACHTUNG: Webinar +++ Realistische Renditen im Trading und die W
 erkzeuge eines Daytraders
DESCRIPTION:Wichtiger Hinweis: \nDer für diesen Tag geplante Vortrag „Re
 alistische Renditen im Trading und die Werkzeuge eines Daytraders“ mit H
 errn Andreas Bernstein (ehem. Müller)\, auch unter dem Pseudonym „Berne
 cker1977“ bekannt\, kann aufgrund der bestehenden Corona-Ausgangsbeschr
 änkungen nicht als Präsenzveranstaltung in der Technischen Hochschule N
 ürnberg stattfinden.\n\nStattdessen bieten wir diesen Vortrag unseren Mit
 gliedern als Webinar am selben Tag zur selben Uhrzeit an.\n\nSiehe dazu au
 ch unter: https://labor.vtad.de/vtad-webinar/.\nGenaue Details werden rech
 tzeitig in einer separaten Mail bekanntgegeben.\n\nWir bitten für diese 
 Änderung um Ihr Verständnis und hoffen\, ab Juni die monatlichen Treffen
  wieder als Präsenzveranstaltung in der Technischen Hochschule Nürnberg 
 abhalten zu können. Genauere Informationen werden an dieser Stelle oder p
 er Mail bekanntgegeben.\n\nBis dahin eine gute Zeit und bleiben Sie gesund
 !\n\nIhr Organisationsteam der Regionalgruppe Nürnberg
CATEGORIES:Nürnberg
END:VEVENT
BEGIN:VTIMEZONE
TZID:Europe/Berlin
X-LIC-LOCATION:Europe/Berlin
BEGIN:DAYLIGHT
DTSTART:20200329T030000
TZOFFSETFROM:+0100
TZOFFSETTO:+0200
TZNAME:CEST
END:DAYLIGHT
END:VTIMEZONE
END:VCALENDAR