BEGIN:VCALENDAR
VERSION:2.0
PRODID:-//wp-events-plugin.com//7.2.3.1//EN
TZID:Europe/Berlin
X-WR-TIMEZONE:Europe/Berlin
BEGIN:VEVENT
UID:647@labor.vtad.de
DTSTART;TZID=Europe/Berlin:20230213T183000
DTEND;TZID=Europe/Berlin:20230213T203000
DTSTAMP:20230118T125709Z
URL:https://labor.vtad.de/rgt/2023-aus-sicht-der-boersenzyklen/
SUMMARY:2023 aus Sicht der Börsenzyklen
DESCRIPTION:\nLt. Wilfried Kölz wird es 2023 an den Börsen riesige Kursbe
 wegungen geben\, die mit den relativ harmlosen Kursausschlägen der letzte
 n Jahre kaum zu vergleichen sind. In diesem Umfeld ist es ganz besonders w
 ichtig\, einen zeitlichen Anhaltspunkt zu haben\, wann die markantesten Ho
 chs und Tiefs des Jahres 2023 fällig sind. Schwerpunkt des Vortrages sind
  Dax\, Gold\, Silber\, Rohöl und Euro/Dollar. Doch auch einige andere Mä
 rkte werden kurz besprochen.\n\n\n\nReferent:\n\n\n\n\n\nWilfried Kölz is
 t der Experte für Börsenzyklen.\nSeit über 30 Jahren erforscht er die Z
 yklen\, stellt Prognosen und hält Vorträge.\n\n\n\n\nRegelung für Gäst
 e und Interessierte:\nSchnuppern ist mit vorheriger Anmeldung kostenfrei u
 nd erst ab der zweiten Teilnahme werden 30 Euro Kostenbeteiligung berechne
 t. Die Gäste werden gebeten sich beim Regionalmanager per Email unter rm.
 freiburg@vtad.de anzumelden\,  da die Plätze beschränkt sind! Der Mitgl
 iedsbeitrag als „Persönliches Mitglied“ beträgt 120 Euro für ein Ja
 hr. Für Mitglieder ist der Besuch aller regionalen Veranstaltungen in all
 en Regionalgruppen kostenfrei.\n\n \n\nVeranstaltungsort:\n\nIntercityHot
 el Freiburg\, Bismarckallee 3\, 79098 Freiburg.\nDirekt beim Hauptbahnhof 
 Freiburg. Parken in der Bahnhofsgarage.\n\n \n\n
CATEGORIES:Freiburg
LOCATION:InterCityHotel Freiburg
X-APPLE-STRUCTURED-LOCATION;VALUE=URI;X-ADDRESS=Bismarckallee 3\, Freiburg\
 , 79098 \, Deutschland;X-APPLE-RADIUS=100;X-TITLE=InterCityHotel Freiburg:
 geo:0,0
END:VEVENT
BEGIN:VTIMEZONE
TZID:Europe/Berlin
X-LIC-LOCATION:Europe/Berlin
BEGIN:STANDARD
DTSTART:20221030T020000
TZOFFSETFROM:+0200
TZOFFSETTO:+0100
TZNAME:CET
END:STANDARD
END:VTIMEZONE
END:VCALENDAR