BEGIN:VCALENDAR
VERSION:2.0
PRODID:-//wp-events-plugin.com//7.2.3.1//EN
TZID:Europe/Berlin
X-WR-TIMEZONE:Europe/Berlin
BEGIN:VEVENT
UID:643@labor.vtad.de
DTSTART;TZID=Europe/Berlin:20230116T180000
DTEND;TZID=Europe/Berlin:20230116T203000
DTSTAMP:20230109T213430Z
URL:https://labor.vtad.de/rgt/20093/
SUMMARY:Bouhmidi-Bänder live in Düsseldorf (Public Viewing)
DESCRIPTION:WO: Los Chicos\, Andreastr.7\, 40213 Düsseldorf-Altstadt\n\nWA
 NN: 16.01.2023 18:00 h\n\nWAS: Bouhmidi-Bänder live in Düsseldorf (Publi
 c Viewing)\n\n&nbsp\;\n\nBouhmidi-Bänder live in Düsseldorf (Public View
 ing)\n\nAm 16.01. findet das VTAD-Webinar zum Thema "Der impliziten Volati
 lität auf der Spur" mit Wieland Arlt statt\, das ihr euch zu Hause vor de
 m Computerbildschirm oder am Fernseher ansehen könnt. Vielen fehlt online
  jedoch der Fühlfaktor und deshalb werden wir die Übertragung in der Art
  eines Public Viewing in Düsseldorf live begleiten und kritisch kommentie
 ren. Handelt es sich bei den nach dem Referenten benannten Bändern wirkli
 ch um etwas Neues\, sprich Verwertbares für den Trader oder lediglich um 
 die Marketingmaßnahme eines Brokers\, der ein zusätzliches Feature in se
 ine Handelsplattform implantiert\, um sich damit ein vermeintliches Allein
 stellungsmerkmal ohne praktischen Nutzen für den Anleger zu verschaffen?\
 n\nDer Erfinder der Bänder ist jedenfalls "Head of Markets für Deutschla
 nd" eines auch in Düsseldorf ansässigen Brokers und hier klingt schon im
  Titel der Begriff "Marketing" mit. Was jedoch nichts heißen muss - auch 
 John Bollinger (den man auf der VTAD-Frühjahrskonferenz 2014 in Frankfurt
  persönlich kennenlernen konnte!) hat sich mit seinem Bändern erst langs
 am durchgesetzt und ist nicht von Beginn an Bestandteil der CFTe-Prüfung 
 gewesen.\n\nBringt die aus Aktien- und Indexoptionen abgeleitete implizite
  Volatilität (iV) für das Trading also wirklich etwas? Zu Beginn der Ver
 anstaltung gibt unser Experte Dr. Oliver Reiß (CFTe) einen kurzen Überbl
 ick über die bisher schon bekannten Ansätze\, iV für das Trading zu nut
 zen bzw. visuell sichtbar zu machen. Und klärt die Frage\, ob es sich wir
 klich um etwas Neues handelt und welche Alternativen es ggf. gibt.\n\nAm E
 nde des Abends kann jeder Teilnehmer folgende Fragen für sich persönlich
  beantworten:\n\n 	a) kann die implizite Vola meinen Tradingansatz unterst
 ützend ergänzen?\n 	b) wenn "ja"\, müssen es dann Bänder sein oder gib
 t es (ggf. für mich) besser geeignete Möglichkeiten der Visualisierung?\
 n 	c) falls "nein": Wie kann ich die Bänder nachbauen\, wenn ich bei mein
 er Software und meinen angestammten Broker bleiben will?\n\nSollte das Web
 inar (ursprünglich ist es für den 17.1. angekündigt gewesen) erneut vor
 verlegt oder verschoben werden\, passen wir uns an und gehen mit.\n\nWir s
 tarten heute abweichend zu sonst schon um 18 h in der oberen Etage (separa
 ter Raum) im Restaurant Los Chicos\, Andreastr.7\, in der Altstadt.\n\n!!B
 itte den zu sonst abweichenden Veranstaltungsort beachten!
CATEGORIES:Düsseldorf
END:VEVENT
BEGIN:VTIMEZONE
TZID:Europe/Berlin
X-LIC-LOCATION:Europe/Berlin
BEGIN:STANDARD
DTSTART:20221030T020000
TZOFFSETFROM:+0200
TZOFFSETTO:+0100
TZNAME:CET
END:STANDARD
END:VTIMEZONE
END:VCALENDAR